BEGIN:VCALENDAR
VERSION:2.0
PRODID:-//Vision For Equality - ECPv6.15.20//NONSGML v1.0//EN
CALSCALE:GREGORIAN
METHOD:PUBLISH
X-WR-CALNAME:Vision For Equality
X-ORIGINAL-URL:https://www.visionforequality.org
X-WR-CALDESC:Events for Vision For Equality
REFRESH-INTERVAL;VALUE=DURATION:PT1H
X-Robots-Tag:noindex
X-PUBLISHED-TTL:PT1H
BEGIN:VTIMEZONE
TZID:America/New_York
BEGIN:DAYLIGHT
TZOFFSETFROM:-0500
TZOFFSETTO:-0400
TZNAME:EDT
DTSTART:20250309T070000
END:DAYLIGHT
BEGIN:STANDARD
TZOFFSETFROM:-0400
TZOFFSETTO:-0500
TZNAME:EST
DTSTART:20251102T060000
END:STANDARD
BEGIN:DAYLIGHT
TZOFFSETFROM:-0500
TZOFFSETTO:-0400
TZNAME:EDT
DTSTART:20260308T070000
END:DAYLIGHT
BEGIN:STANDARD
TZOFFSETFROM:-0400
TZOFFSETTO:-0500
TZNAME:EST
DTSTART:20261101T060000
END:STANDARD
BEGIN:DAYLIGHT
TZOFFSETFROM:-0500
TZOFFSETTO:-0400
TZNAME:EDT
DTSTART:20270314T070000
END:DAYLIGHT
BEGIN:STANDARD
TZOFFSETFROM:-0400
TZOFFSETTO:-0500
TZNAME:EST
DTSTART:20271107T060000
END:STANDARD
END:VTIMEZONE
BEGIN:VEVENT
DTSTART;TZID=America/New_York:20260324T140000
DTEND;TZID=America/New_York:20260324T143000
DTSTAMP:20260423T201428
CREATED:20260320T184223Z
LAST-MODIFIED:20260320T184223Z
UID:10002607-1774360800-1774362600@www.visionforequality.org
SUMMARY:Profound Autism Day at the Capitol
DESCRIPTION:  \n \nTuesday\, March 24\, 2026 \n2:00pm \nProfound Autism Day at the Capitol \nWe will raise awareness of Profound Autism.  If you would like to attend\, please email Carol Costello \nClick Here to Register – Please put March 24\, 2024 in the subject line \nYou can also call 267-702-1601 to Register. \n 
URL:https://www.visionforequality.org/event/profound-autism-day-at-the-capitol/
CATEGORIES:Vision For Equality
ATTACH;FMTTYPE=image/jpeg:https://www.visionforequality.org/wp-content/uploads/2024/01/VFE_Logo_Color_Tagline_FINAL-1-1-scaled.jpg
ORGANIZER;CN="Vision For Equality":MAILTO:visionforequality@visionforequality.org
END:VEVENT
END:VCALENDAR