BEGIN:VCALENDAR
VERSION:2.0
PRODID:-//Vision For Equality - ECPv6.15.20//NONSGML v1.0//EN
CALSCALE:GREGORIAN
METHOD:PUBLISH
X-WR-CALNAME:Vision For Equality
X-ORIGINAL-URL:https://www.visionforequality.org
X-WR-CALDESC:Events for Vision For Equality
REFRESH-INTERVAL;VALUE=DURATION:PT1H
X-Robots-Tag:noindex
X-PUBLISHED-TTL:PT1H
BEGIN:VTIMEZONE
TZID:America/New_York
BEGIN:DAYLIGHT
TZOFFSETFROM:-0500
TZOFFSETTO:-0400
TZNAME:EDT
DTSTART:20250309T070000
END:DAYLIGHT
BEGIN:STANDARD
TZOFFSETFROM:-0400
TZOFFSETTO:-0500
TZNAME:EST
DTSTART:20251102T060000
END:STANDARD
BEGIN:DAYLIGHT
TZOFFSETFROM:-0500
TZOFFSETTO:-0400
TZNAME:EDT
DTSTART:20260308T070000
END:DAYLIGHT
BEGIN:STANDARD
TZOFFSETFROM:-0400
TZOFFSETTO:-0500
TZNAME:EST
DTSTART:20261101T060000
END:STANDARD
BEGIN:DAYLIGHT
TZOFFSETFROM:-0500
TZOFFSETTO:-0400
TZNAME:EDT
DTSTART:20270314T070000
END:DAYLIGHT
BEGIN:STANDARD
TZOFFSETFROM:-0400
TZOFFSETTO:-0500
TZNAME:EST
DTSTART:20271107T060000
END:STANDARD
END:VTIMEZONE
BEGIN:VEVENT
DTSTART;TZID=America/New_York:20260326T130000
DTEND;TZID=America/New_York:20260326T150000
DTSTAMP:20260423T172850
CREATED:20260223T162455Z
LAST-MODIFIED:20260223T162455Z
UID:10002598-1774530000-1774537200@www.visionforequality.org
SUMMARY:Peace of Mind Long Term Planning
DESCRIPTION:[vc_row][vc_column][vc_column_text css=””]Join the PA Family Network in this interactive workshop to…  \n\nGet information and strategies on handling Long Term Planning* \n\n\nIdentify services/supports so you and your loved one can live a good life \n\n*We cannot offer legal or financial advice \nRegister here – https://zoom.us/meeting/register/d3gAbm4iTlCD8mOEIzK3jg[/vc_column_text][/vc_column][/vc_row]
URL:https://www.visionforequality.org/event/peace-of-mind-long-term-planning-21/
CATEGORIES:PA Family Network
ATTACH;FMTTYPE=image/png:https://www.visionforequality.org/wp-content/uploads/2023/07/VFE.PAFN_Logo_Color_-4-e1690222037799.png
END:VEVENT
BEGIN:VEVENT
DTSTART;TZID=America/New_York:20260326T183000
DTEND;TZID=America/New_York:20260326T193000
DTSTAMP:20260423T172850
CREATED:20260323T235602Z
LAST-MODIFIED:20260324T000050Z
UID:10002742-1774549800-1774553400@www.visionforequality.org
SUMMARY:Chair Yoga Bi-weekly wellness Series
DESCRIPTION:This is a gentle form of yoga that can be done while sitting. It can improve your flexibility\, concentration and strength\, while boosting your mood\, and reducing stress and joint strain. Taught by Megan Do Nascimento: She is a Philadelphia native who studied dance at the High School for Creative and Performing Arts and Spanish at Temple University. She first practiced yoga while undergoing treatment for breast cancer six years ago. Yoga became a safe space that allowed Megan to disconnect from treatment and feel power. She completed her 200-hour teacher training at Hot Box Yoga in Manayunk. \nTopic: Vision for Equality Chair Yoga and Dance Cardio \nTime:  06:30 PM Eastern Time (US and Canada) \nEvery week \nPlease call 267-702-1601 to Register to attend.
URL:https://www.visionforequality.org/event/chair-yoga-bi-weekly-wellness-series/2026-03-26/
LOCATION:Virtual\, PA\, United States
CATEGORIES:Vision For Equality
ATTACH;FMTTYPE=image/jpeg:https://www.visionforequality.org/wp-content/uploads/2025/04/Vision-for-Equality-Logo-scaled.jpg
END:VEVENT
BEGIN:VEVENT
DTSTART;TZID=America/New_York:20260326T190000
DTEND;TZID=America/New_York:20260326T203000
DTSTAMP:20260423T172850
CREATED:20260313T182044Z
LAST-MODIFIED:20260313T182044Z
UID:10002605-1774551600-1774557000@www.visionforequality.org
SUMMARY:Educate to Connect - Back to Basics Advocacy
DESCRIPTION:Philly Fam\, a partnership with Vision for Equality presents \nEducate to Connect Series – Back to Basics Advocacy \nThursday\, March 26\, 2026 \n7:00pm – 8:30pm \nBack to Basics Advocacy: \nWhen Systems and Services are Uncertain\, It’s Time to Get Back to Basics! \nPhilly Fam is for Families\, by Families \nThis event is for all Ages and Stages! \nTo Register\, please go to: bit.ly/Back2BasicsMarch26 \nor call 267-702-1601 \nIf you need ADA accommodations or interpretation\, please register by March 21\, 2026.  Philly Fam is a collaborative partnership with Vision for Equality. \n 
URL:https://www.visionforequality.org/event/educate-to-connect-back-to-basics-advocacy/
LOCATION:Virtual\, PA\, United States
END:VEVENT
END:VCALENDAR