BEGIN:VCALENDAR
VERSION:2.0
PRODID:-//Vision For Equality - ECPv6.15.20//NONSGML v1.0//EN
CALSCALE:GREGORIAN
METHOD:PUBLISH
X-ORIGINAL-URL:https://www.visionforequality.org
X-WR-CALDESC:Events for Vision For Equality
REFRESH-INTERVAL;VALUE=DURATION:PT1H
X-Robots-Tag:noindex
X-PUBLISHED-TTL:PT1H
BEGIN:VTIMEZONE
TZID:America/New_York
BEGIN:DAYLIGHT
TZOFFSETFROM:-0500
TZOFFSETTO:-0400
TZNAME:EDT
DTSTART:20250309T070000
END:DAYLIGHT
BEGIN:STANDARD
TZOFFSETFROM:-0400
TZOFFSETTO:-0500
TZNAME:EST
DTSTART:20251102T060000
END:STANDARD
BEGIN:DAYLIGHT
TZOFFSETFROM:-0500
TZOFFSETTO:-0400
TZNAME:EDT
DTSTART:20260308T070000
END:DAYLIGHT
BEGIN:STANDARD
TZOFFSETFROM:-0400
TZOFFSETTO:-0500
TZNAME:EST
DTSTART:20261101T060000
END:STANDARD
BEGIN:DAYLIGHT
TZOFFSETFROM:-0500
TZOFFSETTO:-0400
TZNAME:EDT
DTSTART:20270314T070000
END:DAYLIGHT
BEGIN:STANDARD
TZOFFSETFROM:-0400
TZOFFSETTO:-0500
TZNAME:EST
DTSTART:20271107T060000
END:STANDARD
END:VTIMEZONE
BEGIN:VEVENT
DTSTART;TZID=America/New_York:20260430T180000
DTEND;TZID=America/New_York:20260430T200000
DTSTAMP:20260423T105805
CREATED:20260323T150348Z
LAST-MODIFIED:20260323T150348Z
UID:10002613-1777572000-1777579200@www.visionforequality.org
SUMMARY:Peace of Mind Long Term Planning
DESCRIPTION:[vc_row][vc_column][vc_column_text css=””]Join the PA Family Network in this interactive workshop to…  \n\nGet information and strategies on handling Long Term Planning* \n\n\nIdentify services/supports so you and your loved one can live a good life \n\n*We cannot offer legal or financial advice \nRegister here – https://zoom.us/meeting/register/4UE3AGITRruCp3RUX2Jm9g[/vc_column_text][/vc_column][/vc_row]
URL:https://www.visionforequality.org/event/peace-of-mind-long-term-planning-22/
CATEGORIES:PA Family Network
ATTACH;FMTTYPE=image/png:https://www.visionforequality.org/wp-content/uploads/2023/07/VFE.PAFN_Logo_Color_-4-e1690222037799.png
END:VEVENT
BEGIN:VEVENT
DTSTART;TZID=America/New_York:20260430T183000
DTEND;TZID=America/New_York:20260430T183000
DTSTAMP:20260423T105805
CREATED:20260413T170745Z
LAST-MODIFIED:20260413T170745Z
UID:10002791-1777573800-1777573800@www.visionforequality.org
SUMMARY:Finding What You Love\, Workshop for All Caregivers
DESCRIPTION:Caregiving can feel consuming\, so it is important to find what you love so you don’t lose yourself in caregiving. In this workshop\, we will explore simple ways to rediscover important interests and joys. Join us virtually to connect with fellow caregivers who are eager to share tips and encouragement for rediscovering what you love while caring for others. This workshop will be offered twice\, but you only need to register once. All those who register will receive the recording. \nWednesday 4/22 @ 6:30 – 7:30 PM \nRegister Here: https://us06web.zoom.us/meeting/register/a_LxhBOJTJ6CmBCWZVKacA#/registration \nThursday 4/30 @ 6:30 – 7:30 PM \nRegister Here: https://us06web.zoom.us/meeting/register/R2LK5VLTQm6aEOnJwhbqtg#/registration
URL:https://www.visionforequality.org/event/finding-what-you-love-workshop-for-all-caregivers/2026-04-30/
CATEGORIES:System Navigation & Trauma Informed Care
ATTACH;FMTTYPE=image/jpeg:https://www.visionforequality.org/wp-content/uploads/2025/04/Vision-for-Equality-Logo-scaled.jpg
END:VEVENT
BEGIN:VEVENT
DTSTART;TZID=America/New_York:20260430T183000
DTEND;TZID=America/New_York:20260430T193000
DTSTAMP:20260423T105805
CREATED:20260323T235602Z
LAST-MODIFIED:20260324T000050Z
UID:10002747-1777573800-1777577400@www.visionforequality.org
SUMMARY:Chair Yoga Bi-weekly wellness Series
DESCRIPTION:This is a gentle form of yoga that can be done while sitting. It can improve your flexibility\, concentration and strength\, while boosting your mood\, and reducing stress and joint strain. Taught by Megan Do Nascimento: She is a Philadelphia native who studied dance at the High School for Creative and Performing Arts and Spanish at Temple University. She first practiced yoga while undergoing treatment for breast cancer six years ago. Yoga became a safe space that allowed Megan to disconnect from treatment and feel power. She completed her 200-hour teacher training at Hot Box Yoga in Manayunk. \nTopic: Vision for Equality Chair Yoga and Dance Cardio \nTime:  06:30 PM Eastern Time (US and Canada) \nEvery week \nPlease call 267-702-1601 to Register to attend.
URL:https://www.visionforequality.org/event/chair-yoga-bi-weekly-wellness-series/2026-04-30/
LOCATION:Virtual\, PA\, United States
CATEGORIES:Vision For Equality
ATTACH;FMTTYPE=image/jpeg:https://www.visionforequality.org/wp-content/uploads/2025/04/Vision-for-Equality-Logo-scaled.jpg
END:VEVENT
END:VCALENDAR