BEGIN:VCALENDAR
VERSION:2.0
PRODID:-//Vision For Equality - ECPv6.15.20//NONSGML v1.0//EN
CALSCALE:GREGORIAN
METHOD:PUBLISH
X-WR-CALNAME:Vision For Equality
X-ORIGINAL-URL:https://www.visionforequality.org
X-WR-CALDESC:Events for Vision For Equality
REFRESH-INTERVAL;VALUE=DURATION:PT1H
X-Robots-Tag:noindex
X-PUBLISHED-TTL:PT1H
BEGIN:VTIMEZONE
TZID:America/New_York
BEGIN:DAYLIGHT
TZOFFSETFROM:-0500
TZOFFSETTO:-0400
TZNAME:EDT
DTSTART:20240310T070000
END:DAYLIGHT
BEGIN:STANDARD
TZOFFSETFROM:-0400
TZOFFSETTO:-0500
TZNAME:EST
DTSTART:20241103T060000
END:STANDARD
BEGIN:DAYLIGHT
TZOFFSETFROM:-0500
TZOFFSETTO:-0400
TZNAME:EDT
DTSTART:20250309T070000
END:DAYLIGHT
BEGIN:STANDARD
TZOFFSETFROM:-0400
TZOFFSETTO:-0500
TZNAME:EST
DTSTART:20251102T060000
END:STANDARD
BEGIN:DAYLIGHT
TZOFFSETFROM:-0500
TZOFFSETTO:-0400
TZNAME:EDT
DTSTART:20260308T070000
END:DAYLIGHT
BEGIN:STANDARD
TZOFFSETFROM:-0400
TZOFFSETTO:-0500
TZNAME:EST
DTSTART:20261101T060000
END:STANDARD
END:VTIMEZONE
BEGIN:VEVENT
DTSTART;TZID=America/New_York:20250804T183000
DTEND;TZID=America/New_York:20250804T200000
DTSTAMP:20260423T230218
CREATED:20250617T181036Z
LAST-MODIFIED:20250728T134117Z
UID:10002349-1754332200-1754337600@www.visionforequality.org
SUMMARY:Sibling Good Life Group (Rescheduled July Session)
DESCRIPTION:[vc_row][vc_column][vc_column_text css=””]Sibling Good Life Group  \nThis group of adult siblings will have the opportunity to…   \n\nGuide the group’s direction and network with other siblings \nTalk about your lived experience\, hear from experts on topics relevant to sibling life\, have open and informative discussions\, and plan for a future that holds true potential for you and your family. \n\nAnyone thought of like a sibling or in a sibling-like role is welcome!  \nRegister here: https://zoom.us/meeting/register/fczRoDYKTBKi7KMKbIVnGw\n[/vc_column_text][/vc_column][/vc_row]
URL:https://www.visionforequality.org/event/sibling-good-life-group-25/
CATEGORIES:PA Family Network
ATTACH;FMTTYPE=image/png:https://www.visionforequality.org/wp-content/uploads/2022/09/VFE.PAFN_Logo_Color_-e1662128164669.png
END:VEVENT
BEGIN:VEVENT
DTSTART;TZID=America/New_York:20250805T130000
DTEND;TZID=America/New_York:20250805T143000
DTSTAMP:20260423T230218
CREATED:20250723T192507Z
LAST-MODIFIED:20250723T192507Z
UID:10002439-1754398800-1754404200@www.visionforequality.org
SUMMARY:Using The LifeCourse to Plan and Problem Solve - Part 1
DESCRIPTION:Using The LifeCourse to Plan and Problem Solve – Part 1 \nJoin the PA Family Network in this interactive 2-part workshop to…  \n\nIdentify service/supports so your loved one can live an Everyday Life \nLearn to use the LifeCourse framework and tools to plan for your future! \n\nRegister here – https://zoom.us/meeting/register/Fei7cNYeTiSnpt0QL3x4Rg
URL:https://www.visionforequality.org/event/using-the-lifecourse-to-plan-and-problem-solve-part-1-11/
CATEGORIES:PA Family Network
ATTACH;FMTTYPE=image/png:https://www.visionforequality.org/wp-content/uploads/2023/07/VFE.PAFN_Logo_Color_-4-e1690222037799.png
END:VEVENT
BEGIN:VEVENT
DTSTART;TZID=America/New_York:20250806T143000
DTEND;TZID=America/New_York:20250806T160000
DTSTAMP:20260423T230218
CREATED:20250723T191143Z
LAST-MODIFIED:20250723T191143Z
UID:10002436-1754490600-1754496000@www.visionforequality.org
SUMMARY:Caregiver Support Group
DESCRIPTION:Caregiver Support Group  \nWe have a safe place\, meeting EACH MONTH\, for you to connect with other caregivers who understand the things you are dealing with and find the support you need as a caregiver.  \n\nIn this support group\, we talk about stress\, self-care\, family dynamics\, and more.  \nWe want to care for you as you care for your loved one(s).  \nThe last twenty (20) minutes of the meeting will focus on relaxation techniques and your loved ones are welcomed to join us at that time. \n\nRegister here – https://zoom.us/meeting/register/p7TNUqDCTPu5tyfkGZNscQ \n  \n 
URL:https://www.visionforequality.org/event/caregiver-support-group-56/
CATEGORIES:PA Family Network
ATTACH;FMTTYPE=image/png:https://www.visionforequality.org/wp-content/uploads/2023/07/VFE.PAFN_Logo_Color_-4-e1690222037799.png
END:VEVENT
BEGIN:VEVENT
DTSTART;TZID=America/New_York:20250807T110000
DTEND;TZID=America/New_York:20250807T130000
DTSTAMP:20260423T230218
CREATED:20250723T195839Z
LAST-MODIFIED:20250723T200218Z
UID:10002445-1754564400-1754571600@www.visionforequality.org
SUMMARY:Talleres de Exención Avanzada\, Parte 1 (Advanced Waiver\, Part 1 - Spanish)
DESCRIPTION:Únase a los asesores de la Red Familiar de PA en este taller de 2 partes que ampliará con más detalle lo que se presentó en los Talleres Básicos de Exenciones y cómo las exenciones pueden apoyar a su ser querido. \n– Obtenga más información sobre los diversos servicios definidos en las exenciones y algunos de sus límites\, requisitos y opciones \n– Guíe a los participantes en la investigación de exenciones\, la utilización de recursos y la comprensión de sus derechos y responsabilidades \n– Discusión de los diversos documentos de renuncia Apéndices\, Debido Proceso\, Audiencia Justa y Más \nregístrate aquí – https://zoom.us/meeting/register/s1-e0poNQva2Frx33uWU9g \n 
URL:https://www.visionforequality.org/event/talleres-de-exencion-avanzada-parte-1-advanced-waiver-part-1-spanish-2/
CATEGORIES:PA Family Network
END:VEVENT
BEGIN:VEVENT
DTSTART;TZID=America/New_York:20250811T160000
DTEND;TZID=America/New_York:20250811T180000
DTSTAMP:20260423T230218
CREATED:20250723T193758Z
LAST-MODIFIED:20250723T193758Z
UID:10002441-1754928000-1754935200@www.visionforequality.org
SUMMARY:Transitions Through the Lifespan
DESCRIPTION:Transitions Through the Lifespan  \nJoin PA Family Network in this interactive workshop to…  \n\nObtain information and identify services\, supports\, and resources \nUtilize the LifeCourse Framework to plan for transitions in early childhood\, school age\, high school\, adulthood\, aging\, and through medical transitions \n\n\nRegister here – https://zoom.us/meeting/register/Y4MOH2n2RW2XhRcuWljF1Q
URL:https://www.visionforequality.org/event/transitions-through-the-lifespan-26/
CATEGORIES:PA Family Network
ATTACH;FMTTYPE=image/png:https://www.visionforequality.org/wp-content/uploads/2023/07/VFE.PAFN_Logo_Color_-4-e1690222037799.png
END:VEVENT
BEGIN:VEVENT
DTSTART;TZID=America/New_York:20250812T130000
DTEND;TZID=America/New_York:20250812T143000
DTSTAMP:20260423T230218
CREATED:20250723T193254Z
LAST-MODIFIED:20250723T193254Z
UID:10002440-1755003600-1755009000@www.visionforequality.org
SUMMARY:Using The LifeCourse to Plan and Problem Solve - Part 2
DESCRIPTION:Using The LifeCourse to Plan and Problem Solve – Part 2 \nJoin the PA Family Network in this interactive 2-part workshop to…  \n\nIdentify service/supports so your loved one can live an Everyday Life \nLearn to use the LifeCourse framework and tools to plan for your future! \n\nRegister here – https://zoom.us/meeting/register/6OW_AYsmTNCilUMp7GNmpw
URL:https://www.visionforequality.org/event/using-the-lifecourse-to-plan-and-problem-solve-part-2-12/
CATEGORIES:PA Family Network
ATTACH;FMTTYPE=image/png:https://www.visionforequality.org/wp-content/uploads/2023/07/VFE.PAFN_Logo_Color_-4-e1690222037799.png
END:VEVENT
BEGIN:VEVENT
DTSTART;TZID=America/New_York:20250818T183000
DTEND;TZID=America/New_York:20250818T200000
DTSTAMP:20260423T230218
CREATED:20250723T191512Z
LAST-MODIFIED:20250723T191512Z
UID:10002437-1755541800-1755547200@www.visionforequality.org
SUMMARY:Caregiver Support Group
DESCRIPTION:Caregiver Support Group  \nWe have a safe place\, meeting EACH MONTH\, for you to connect with other caregivers who understand the things you are dealing with and find the support you need as a caregiver.  \n\nIn this support group\, we talk about stress\, self-care\, family dynamics\, and more.  \nWe want to care for you as you care for your loved one(s).  \nThe last twenty (20) minutes of the meeting will focus on relaxation techniques and your loved ones are welcomed to join us at that time. \n\nRegister here – https://zoom.us/meeting/register/rJZuEm5ZTrumoDC59zccsw \n  \n 
URL:https://www.visionforequality.org/event/caregiver-support-group-57/
CATEGORIES:PA Family Network
ATTACH;FMTTYPE=image/png:https://www.visionforequality.org/wp-content/uploads/2023/07/VFE.PAFN_Logo_Color_-4-e1690222037799.png
END:VEVENT
BEGIN:VEVENT
DTSTART;TZID=America/New_York:20250819T100000
DTEND;TZID=America/New_York:20250819T120000
DTSTAMP:20260423T230218
CREATED:20250723T194723Z
LAST-MODIFIED:20250723T194723Z
UID:10002442-1755597600-1755604800@www.visionforequality.org
SUMMARY:Peace of Mind Long-Term Planning
DESCRIPTION: Peace of Mind\, Long-term Planning  \nJoin the PA Family Network in this interactive workshop to…  \n\nGet information and strategies on handling Long Term Planning* \n\n\nIdentify services/supports so you and your loved one can live a good life \n\n*We cannot offer legal or financial advice \nRegister here – https://zoom.us/meeting/register/W11ujsIJTHqfEP90AZo8Pw
URL:https://www.visionforequality.org/event/peace-of-mind-long-term-planning-15/
CATEGORIES:PA Family Network
ATTACH;FMTTYPE=image/png:https://www.visionforequality.org/wp-content/uploads/2023/07/VFE.PAFN_Logo_Color_-4-e1690222037799.png
END:VEVENT
BEGIN:VEVENT
DTSTART;TZID=America/New_York:20250820T183000
DTEND;TZID=America/New_York:20250820T203000
DTSTAMP:20260423T230218
CREATED:20250723T195320Z
LAST-MODIFIED:20250723T195320Z
UID:10002443-1755714600-1755721800@www.visionforequality.org
SUMMARY:Waiver Basics\, Part 1
DESCRIPTION:Waiver Basics\, Part 1 \nJoin the PA Family Network in this 2-part workshop to learn how waivers can support your loved one. Target Audience: Families with individuals just entering the system.  \n\nAddress the importance of having a vision of your loved one’s needs to live a good life \nBasic information of how to register\, apply\, and access waiver services \nIndividual Supports Plan (ISP) Basics \n\nRegister here – https://zoom.us/meeting/register/dpFqpLnSQ163kQ9Y0PDuUA
URL:https://www.visionforequality.org/event/waiver-basics-part-1-29/
CATEGORIES:PA Family Network
ATTACH;FMTTYPE=image/png:https://www.visionforequality.org/wp-content/uploads/2023/07/VFE.PAFN_Logo_Color_-4-e1690222037799.png
END:VEVENT
BEGIN:VEVENT
DTSTART;TZID=America/New_York:20250821T110000
DTEND;TZID=America/New_York:20250821T130000
DTSTAMP:20260423T230218
CREATED:20250723T200104Z
LAST-MODIFIED:20250723T200104Z
UID:10002446-1755774000-1755781200@www.visionforequality.org
SUMMARY:Talleres de Exención Avanzada\, Parte 2 (Advanced Waiver\, Part 2 - Spanish)
DESCRIPTION:Únase a los asesores de la Red Familiar de PA en este taller de 2 partes que ampliará con más detalle lo que se presentó en los Talleres Básicos de Exenciones y cómo las exenciones pueden apoyar a su ser querido. \n– Obtenga más información sobre los diversos servicios definidos en las exenciones y algunos de sus límites\, requisitos y opciones \n– Guíe a los participantes en la investigación de exenciones\, la utilización de recursos y la comprensión de sus derechos y responsabilidades \n– Discusión de los diversos documentos de renuncia Apéndices\, Debido Proceso\, Audiencia Justa y Más \nregístrate aquí – https://zoom.us/meeting/register/D1Jqx670RIC0auTDK_fW0g \n 
URL:https://www.visionforequality.org/event/talleres-de-exencion-avanzada-parte-2-advanced-waiver-part-2-spanish-2/
CATEGORIES:PA Family Network
END:VEVENT
BEGIN:VEVENT
DTSTART;TZID=America/New_York:20250825T183000
DTEND;TZID=America/New_York:20250825T200000
DTSTAMP:20260423T230218
CREATED:20250723T192011Z
LAST-MODIFIED:20250723T192011Z
UID:10002438-1756146600-1756152000@www.visionforequality.org
SUMMARY:Sibling Good Life Group
DESCRIPTION:Sibling Good Life Group  \nThis group of adult siblings will have the opportunity to…   \n\nGuide the group’s direction and network with other siblings \nTalk about your lived experience\, hear from experts on topics relevant to sibling life\, have open and informative discussions\, and plan for a future that holds true potential for you and your family. \n\nAnyone thought of like a sibling or in a sibling-like role is welcome!  \nRegister here – https://zoom.us/meeting/register/T790bMyDTeWlsKyLs2oIEQ
URL:https://www.visionforequality.org/event/sibling-good-life-group-26/
CATEGORIES:PA Family Network
ATTACH;FMTTYPE=image/png:https://www.visionforequality.org/wp-content/uploads/2022/09/VFE.PAFN_Logo_Color_-e1662128164669.png
END:VEVENT
BEGIN:VEVENT
DTSTART;TZID=America/New_York:20250827T183000
DTEND;TZID=America/New_York:20250827T203000
DTSTAMP:20260423T230218
CREATED:20250723T195546Z
LAST-MODIFIED:20250723T195546Z
UID:10002444-1756319400-1756326600@www.visionforequality.org
SUMMARY:Waiver Basics\, Part 2
DESCRIPTION:Waiver Basics\, Part 2   \nJoin the PA Family Network in this 2-part workshop to learn how waivers can support your loved one. Target Audience: Families with individuals just entering the system.  \n\nAddress the importance of having a vision of your loved one’s needs to live a good life \nBasic information of how to register\, apply\, and access waiver services \nIndividual Supports Plan (ISP) Basics\n\nRegister here – https://zoom.us/meeting/register/PCaHgwKcTnuT8XJYJENxEw
URL:https://www.visionforequality.org/event/waiver-basics-part-2-27/
CATEGORIES:PA Family Network
END:VEVENT
END:VCALENDAR