BEGIN:VCALENDAR
VERSION:2.0
PRODID:-//Vision For Equality - ECPv6.15.20//NONSGML v1.0//EN
CALSCALE:GREGORIAN
METHOD:PUBLISH
X-ORIGINAL-URL:https://www.visionforequality.org
X-WR-CALDESC:Events for Vision For Equality
REFRESH-INTERVAL;VALUE=DURATION:PT1H
X-Robots-Tag:noindex
X-PUBLISHED-TTL:PT1H
BEGIN:VTIMEZONE
TZID:America/New_York
BEGIN:DAYLIGHT
TZOFFSETFROM:-0500
TZOFFSETTO:-0400
TZNAME:EDT
DTSTART:20250309T070000
END:DAYLIGHT
BEGIN:STANDARD
TZOFFSETFROM:-0400
TZOFFSETTO:-0500
TZNAME:EST
DTSTART:20251102T060000
END:STANDARD
BEGIN:DAYLIGHT
TZOFFSETFROM:-0500
TZOFFSETTO:-0400
TZNAME:EDT
DTSTART:20260308T070000
END:DAYLIGHT
BEGIN:STANDARD
TZOFFSETFROM:-0400
TZOFFSETTO:-0500
TZNAME:EST
DTSTART:20261101T060000
END:STANDARD
BEGIN:DAYLIGHT
TZOFFSETFROM:-0500
TZOFFSETTO:-0400
TZNAME:EDT
DTSTART:20270314T070000
END:DAYLIGHT
BEGIN:STANDARD
TZOFFSETFROM:-0400
TZOFFSETTO:-0500
TZNAME:EST
DTSTART:20271107T060000
END:STANDARD
END:VTIMEZONE
BEGIN:VEVENT
DTSTART;TZID=America/New_York:20260204T143000
DTEND;TZID=America/New_York:20260204T160000
DTSTAMP:20260423T154722
CREATED:20260115T193404Z
LAST-MODIFIED:20260115T193404Z
UID:10002573-1770215400-1770220800@www.visionforequality.org
SUMMARY:Caregiver Support Group
DESCRIPTION:[vc_row][vc_column][vc_column_text css=””]Caregiver Support Group  \nWe have a safe place\, meeting EACH MONTH\, for you to connect with other caregivers who understand the things you are dealing with and find the support you need as a caregiver.  \n\nIn this support group\, we talk about stress\, self-care\, family dynamics\, and more.  \nWe want to care for you as you care for your loved one(s).  \nThe last twenty (20) minutes of the meeting will focus on relaxation techniques and your loved ones are welcomed to join us at that time. \n\nRegister here – https://zoom.us/meeting/register/czkkbemNTy-QRELQdvE5qQ[/vc_column_text][/vc_column][/vc_row]
URL:https://www.visionforequality.org/event/caregiver-support-group-68/
CATEGORIES:PA Family Network
ATTACH;FMTTYPE=image/png:https://www.visionforequality.org/wp-content/uploads/2023/07/VFE.PAFN_Logo_Color_-4-e1690222037799.png
END:VEVENT
BEGIN:VEVENT
DTSTART;TZID=America/New_York:20260204T183000
DTEND;TZID=America/New_York:20260204T203000
DTSTAMP:20260423T154722
CREATED:20260115T202008Z
LAST-MODIFIED:20260115T202008Z
UID:10002579-1770229800-1770237000@www.visionforequality.org
SUMMARY:Waiver Basics\, Part 1
DESCRIPTION:[vc_row][vc_column][vc_column_text css=””]Join the PA Family Network in part-1 of this 2-part workshop to learn how waivers can support your loved one. Target Audience: Families with individuals just entering the system.  \n\nAddress the importance of having a vision of your loved one’s needs to live a good life \nBasic information of how to register\, apply\, and access waiver services \nIndividual Supports Plan (ISP) Basics \n\nRegister here – https://zoom.us/meeting/register/1tvMCBlrSySQsMSkoJQF1Q[/vc_column_text][/vc_column][/vc_row]
URL:https://www.visionforequality.org/event/waiver-basics-part-1-35/
CATEGORIES:PA Family Network
ATTACH;FMTTYPE=image/png:https://www.visionforequality.org/wp-content/uploads/2023/07/VFE.PAFN_Logo_Color_-4-e1690222037799.png
END:VEVENT
BEGIN:VEVENT
DTSTART;TZID=America/New_York:20260206T140000
DTEND;TZID=America/New_York:20260206T153000
DTSTAMP:20260423T154722
CREATED:20260115T195522Z
LAST-MODIFIED:20260115T195522Z
UID:10002576-1770386400-1770391800@www.visionforequality.org
SUMMARY:Using The LifeCourse to Plan and Problem Solve - Part 1
DESCRIPTION:[vc_row][vc_column][vc_column_text css=””]Join the PA Family Network in part-1 of this interactive 2-part workshop to…  \n\nIdentify service/supports so your loved one can live an Everyday Life \nLearn to use the LifeCourse framework and tools to plan for your future! \n\nRegister here – https://zoom.us/meeting/register/QXSCsHFlRjyMKUIHhY0xiA[/vc_column_text][/vc_column][/vc_row]
URL:https://www.visionforequality.org/event/using-the-lifecourse-to-plan-and-problem-solve-part-1-17/
CATEGORIES:PA Family Network
ATTACH;FMTTYPE=image/png:https://www.visionforequality.org/wp-content/uploads/2023/07/VFE.PAFN_Logo_Color_-4-e1690222037799.png
END:VEVENT
BEGIN:VEVENT
DTSTART;TZID=America/New_York:20260210T120000
DTEND;TZID=America/New_York:20260210T140000
DTSTAMP:20260423T154722
CREATED:20260116T132621Z
LAST-MODIFIED:20260116T132621Z
UID:10002583-1770724800-1770732000@www.visionforequality.org
SUMMARY:Advanced Waiver\, Part 1
DESCRIPTION:[vc_row][vc_column][vc_column_text css=””]Advanced Waiver\, Part 1  \nJoin the PA Family Network Advisors in this 2-part workshop which will expand in more detail what was presented in the Waiver Basics Workshops and how waivers can support your loved one.  \n\nLearn more about the various services defined under waivers and some of their limits\, requirements\, and options \nGuide participants on researching waivers\, utilizing resources and understanding your rights and responsibilities \nDiscussion of the various waiver document Appendices\, Due Process\, Fair Hearing and More \n\nRegister here – https://zoom.us/meeting/register/BKcJ86S8TaykDMJxBJQvCA[/vc_column_text][/vc_column][/vc_row]
URL:https://www.visionforequality.org/event/advanced-waiver-part-1-20/
CATEGORIES:PA Family Network
ATTACH;FMTTYPE=image/png:https://www.visionforequality.org/wp-content/uploads/2023/07/VFE.PAFN_Logo_Color_-4-e1690222037799.png
END:VEVENT
BEGIN:VEVENT
DTSTART;TZID=America/New_York:20260211T183000
DTEND;TZID=America/New_York:20260211T203000
DTSTAMP:20260423T154722
CREATED:20260115T202737Z
LAST-MODIFIED:20260115T202737Z
UID:10002580-1770834600-1770841800@www.visionforequality.org
SUMMARY:Waiver Basics\, Part 2
DESCRIPTION:[vc_row][vc_column][vc_column_text css=””] Join the PA Family Network in part-2 of this 2-part workshop to learn how waivers can support your loved one. Target Audience: Families with individuals just entering the system.  \n\nAddress the importance of having a vision of your loved one’s needs to live a good life \nBasic information of how to register\, apply\, and access waiver services \nIndividual Supports Plan (ISP) Basics\n\nRegister here – https://zoom.us/meeting/register/1dY8c5NGShuLi6fgZy10zw[/vc_column_text][/vc_column][/vc_row]
URL:https://www.visionforequality.org/event/waiver-basics-part-2-33/
CATEGORIES:PA Family Network
END:VEVENT
BEGIN:VEVENT
DTSTART;TZID=America/New_York:20260213T140000
DTEND;TZID=America/New_York:20260213T153000
DTSTAMP:20260423T154722
CREATED:20260115T195801Z
LAST-MODIFIED:20260115T195801Z
UID:10002577-1770991200-1770996600@www.visionforequality.org
SUMMARY:Using The LifeCourse to Plan and Problem Solve - Part 2
DESCRIPTION:[vc_row][vc_column][vc_column_text css=””]Join the PA Family Network in part-2 of this interactive 2-part workshop to…  \n\nIdentify service/supports so your loved one can live an Everyday Life \nLearn to use the LifeCourse framework and tools to plan for your future! \n\nRegister here – https://zoom.us/meeting/register/w5Pi9IRCTQOvrS4rkbuSJg[/vc_column_text][/vc_column][/vc_row]
URL:https://www.visionforequality.org/event/using-the-lifecourse-to-plan-and-problem-solve-part-2-18/
CATEGORIES:PA Family Network
ATTACH;FMTTYPE=image/png:https://www.visionforequality.org/wp-content/uploads/2023/07/VFE.PAFN_Logo_Color_-4-e1690222037799.png
END:VEVENT
BEGIN:VEVENT
DTSTART;TZID=America/New_York:20260217T183000
DTEND;TZID=America/New_York:20260217T200000
DTSTAMP:20260423T154722
CREATED:20260115T193622Z
LAST-MODIFIED:20260115T193622Z
UID:10002574-1771353000-1771358400@www.visionforequality.org
SUMMARY:Caregiver Support Group
DESCRIPTION:[vc_row][vc_column][vc_column_text css=””]We have a safe place\, meeting EACH MONTH\, for you to connect with other caregivers who understand the things you are dealing with and find the support you need as a caregiver.  \n\nIn this support group\, we talk about stress\, self-care\, family dynamics\, and more.  \nWe want to care for you as you care for your loved one(s).  \nThe last twenty (20) minutes of the meeting will focus on relaxation techniques and your loved ones are welcomed to join us at that time. \n\nRegister here – https://zoom.us/meeting/register/KELEMjXBSfuOn_y1bBoV5g[/vc_column_text][/vc_column][/vc_row]
URL:https://www.visionforequality.org/event/caregiver-support-group-69/
CATEGORIES:PA Family Network
ATTACH;FMTTYPE=image/png:https://www.visionforequality.org/wp-content/uploads/2023/07/VFE.PAFN_Logo_Color_-4-e1690222037799.png
END:VEVENT
BEGIN:VEVENT
DTSTART;TZID=America/New_York:20260218T100000
DTEND;TZID=America/New_York:20260218T120000
DTSTAMP:20260423T154722
CREATED:20260115T200029Z
LAST-MODIFIED:20260115T200029Z
UID:10002578-1771408800-1771416000@www.visionforequality.org
SUMMARY:Peace of Mind Long-Term Planning
DESCRIPTION:[vc_row][vc_column][vc_column_text css=””]Join the PA Family Network in this interactive workshop to…  \n\nGet information and strategies on handling Long Term Planning* \n\n\nIdentify services/supports so you and your loved one can live a good life \n\n*We cannot offer legal or financial advice \nRegister here – https://zoom.us/meeting/register/6obWg4RiSWiUrRCmxfVDXA[/vc_column_text][/vc_column][/vc_row]
URL:https://www.visionforequality.org/event/peace-of-mind-long-term-planning-20/
CATEGORIES:PA Family Network
ATTACH;FMTTYPE=image/png:https://www.visionforequality.org/wp-content/uploads/2023/07/VFE.PAFN_Logo_Color_-4-e1690222037799.png
END:VEVENT
BEGIN:VEVENT
DTSTART;TZID=America/New_York:20260223T183000
DTEND;TZID=America/New_York:20260223T200000
DTSTAMP:20260423T154722
CREATED:20260115T193926Z
LAST-MODIFIED:20260115T193926Z
UID:10002575-1771871400-1771876800@www.visionforequality.org
SUMMARY:Sibling Good Life Group
DESCRIPTION:[vc_row][vc_column][vc_column_text css=””]This group of adult siblings will have the opportunity to…   \n\nGuide the group’s direction and network with other siblings \nTalk about your lived experience\, hear from experts on topics relevant to sibling life\, have open and informative discussions\, and plan for a future that holds true potential for you and your family. \n\nAnyone thought of like a sibling or in a sibling-like role is welcome!  \nRegister here – https://zoom.us/meeting/register/XwdofbdgTUKnv5th39DQMA\n[/vc_column_text][/vc_column][/vc_row]
URL:https://www.visionforequality.org/event/sibling-good-life-group-32/
CATEGORIES:PA Family Network
ATTACH;FMTTYPE=image/png:https://www.visionforequality.org/wp-content/uploads/2022/09/VFE.PAFN_Logo_Color_-e1662128164669.png
END:VEVENT
BEGIN:VEVENT
DTSTART;TZID=America/New_York:20260224T120000
DTEND;TZID=America/New_York:20260224T140000
DTSTAMP:20260423T154722
CREATED:20260116T132916Z
LAST-MODIFIED:20260116T132916Z
UID:10002584-1771934400-1771941600@www.visionforequality.org
SUMMARY:Advanced Waiver\, Part 2
DESCRIPTION:[vc_row][vc_column][vc_column_text css=””]Advanced Waiver\, Part 2  \nJoin the PA Family Network Advisors in this 2-part workshop which will expand in more detail what was presented in the Waiver Basics Workshops and how waivers can support your loved one.  \n\nLearn more about the various services defined under waivers and some of their limits\, requirements\, and options \nGuide participants on researching waivers\, utilizing resources and understanding your rights and responsibilities \nDiscussion of the various waiver document Appendices\, Due Process\, Fair Hearing and More \n\nRegister here – https://zoom.us/meeting/register/Q3Rp0QxcQCO6Qau_26mpnw[/vc_column_text][/vc_column][/vc_row]
URL:https://www.visionforequality.org/event/advanced-waiver-part-2-21/
CATEGORIES:PA Family Network
ATTACH;FMTTYPE=image/png:https://www.visionforequality.org/wp-content/uploads/2023/07/VFE.PAFN_Logo_Color_-4-e1690222037799.png
END:VEVENT
END:VCALENDAR