BEGIN:VCALENDAR
VERSION:2.0
PRODID:-//Vision For Equality - ECPv6.15.20//NONSGML v1.0//EN
CALSCALE:GREGORIAN
METHOD:PUBLISH
X-ORIGINAL-URL:https://www.visionforequality.org
X-WR-CALDESC:Events for Vision For Equality
REFRESH-INTERVAL;VALUE=DURATION:PT1H
X-Robots-Tag:noindex
X-PUBLISHED-TTL:PT1H
BEGIN:VTIMEZONE
TZID:America/New_York
BEGIN:DAYLIGHT
TZOFFSETFROM:-0500
TZOFFSETTO:-0400
TZNAME:EDT
DTSTART:20250309T070000
END:DAYLIGHT
BEGIN:STANDARD
TZOFFSETFROM:-0400
TZOFFSETTO:-0500
TZNAME:EST
DTSTART:20251102T060000
END:STANDARD
BEGIN:DAYLIGHT
TZOFFSETFROM:-0500
TZOFFSETTO:-0400
TZNAME:EDT
DTSTART:20260308T070000
END:DAYLIGHT
BEGIN:STANDARD
TZOFFSETFROM:-0400
TZOFFSETTO:-0500
TZNAME:EST
DTSTART:20261101T060000
END:STANDARD
BEGIN:DAYLIGHT
TZOFFSETFROM:-0500
TZOFFSETTO:-0400
TZNAME:EDT
DTSTART:20270314T070000
END:DAYLIGHT
BEGIN:STANDARD
TZOFFSETFROM:-0400
TZOFFSETTO:-0500
TZNAME:EST
DTSTART:20271107T060000
END:STANDARD
END:VTIMEZONE
BEGIN:VEVENT
DTSTART;TZID=America/New_York:20260304T143000
DTEND;TZID=America/New_York:20260304T160000
DTSTAMP:20260423T124158
CREATED:20260223T152627Z
LAST-MODIFIED:20260223T152627Z
UID:10002592-1772634600-1772640000@www.visionforequality.org
SUMMARY:Caregiver Support Group
DESCRIPTION:[vc_row][vc_column][vc_column_text css=””]We have a safe place\, meeting EACH MONTH\, for you to connect with other caregivers who understand the things you are dealing with and find the support you need as a caregiver.  \n\nIn this support group\, we talk about stress\, self-care\, family dynamics\, and more.  \nWe want to care for you as you care for your loved one(s).  \nThe last twenty (20) minutes of the meeting will focus on relaxation techniques and your loved ones are welcomed to join us at that time. \n\nRegister here – https://zoom.us/meeting/register/V1tczI3AStGGE2r7mhsy-g[/vc_column_text][/vc_column][/vc_row]
URL:https://www.visionforequality.org/event/caregiver-support-group-70/
CATEGORIES:PA Family Network
ATTACH;FMTTYPE=image/png:https://www.visionforequality.org/wp-content/uploads/2023/07/VFE.PAFN_Logo_Color_-4-e1690222037799.png
END:VEVENT
BEGIN:VEVENT
DTSTART;TZID=America/New_York:20260305T170000
DTEND;TZID=America/New_York:20260305T183000
DTSTAMP:20260423T124158
CREATED:20260223T160510Z
LAST-MODIFIED:20260223T160510Z
UID:10002595-1772730000-1772735400@www.visionforequality.org
SUMMARY:Using The LifeCourse to Plan and Problem Solve - Part 1
DESCRIPTION:[vc_row][vc_column][vc_column_text css=””]Join the PA Family Network in part-1 of this interactive 2-part workshop to…  \n\nIdentify service/supports so your loved one can live an Everyday Life \nLearn to use the LifeCourse framework and tools to plan for your future! \n\nRegister here – https://zoom.us/meeting/register/i-dPhCHARYa4-6zHwnUDkw[/vc_column_text][/vc_column][/vc_row]
URL:https://www.visionforequality.org/event/using-the-lifecourse-to-plan-and-problem-solve-part-1-18/
CATEGORIES:PA Family Network
ATTACH;FMTTYPE=image/png:https://www.visionforequality.org/wp-content/uploads/2023/07/VFE.PAFN_Logo_Color_-4-e1690222037799.png
END:VEVENT
BEGIN:VEVENT
DTSTART;TZID=America/New_York:20260311T100000
DTEND;TZID=America/New_York:20260311T120000
DTSTAMP:20260423T124158
CREATED:20260223T164058Z
LAST-MODIFIED:20260223T164058Z
UID:10002599-1773223200-1773230400@www.visionforequality.org
SUMMARY:Waiver Basics\, Part 1
DESCRIPTION:[vc_row][vc_column][vc_column_text css=””]Join the PA Family Network in part-1 of this 2-part workshop to learn how waivers can support your loved one. Target Audience: Families with individuals just entering the system.  \n\nAddress the importance of having a vision of your loved one’s needs to live a good life \nBasic information of how to register\, apply\, and access waiver services \nIndividual Supports Plan (ISP) Basics \n\nRegister here – https://zoom.us/meeting/register/O-7b-t4HThuLISdT9ZQxRg[/vc_column_text][/vc_column][/vc_row]
URL:https://www.visionforequality.org/event/waiver-basics-part-1-36/
CATEGORIES:PA Family Network
ATTACH;FMTTYPE=image/png:https://www.visionforequality.org/wp-content/uploads/2023/07/VFE.PAFN_Logo_Color_-4-e1690222037799.png
END:VEVENT
BEGIN:VEVENT
DTSTART;TZID=America/New_York:20260311T100000
DTEND;TZID=America/New_York:20260311T120000
DTSTAMP:20260423T124158
CREATED:20260323T151023Z
LAST-MODIFIED:20260323T151023Z
UID:10002614-1773223200-1773230400@www.visionforequality.org
SUMMARY:Waiver Basics\, Part 1
DESCRIPTION:[vc_row][vc_column][vc_column_text css=””]Join the PA Family Network in part-1 of this 2-part workshop to learn how waivers can support your loved one.  \nTarget Audience: Families with individuals just entering the system.  \n\nAddress the importance of having a vision of your loved one’s needs to live a good life \nBasic information of how to register\, apply\, and access waiver services \nIndividual Supports Plan (ISP) Basics \n\nRegister here – https://zoom.us/meeting/register/w6azp3nfRlSyHnGr08JMBg[/vc_column_text][/vc_column][/vc_row]
URL:https://www.visionforequality.org/event/waiver-basics-part-1-37/
CATEGORIES:PA Family Network
ATTACH;FMTTYPE=image/png:https://www.visionforequality.org/wp-content/uploads/2023/07/VFE.PAFN_Logo_Color_-4-e1690222037799.png
END:VEVENT
BEGIN:VEVENT
DTSTART;TZID=America/New_York:20260312T170000
DTEND;TZID=America/New_York:20260312T183000
DTSTAMP:20260423T124158
CREATED:20260223T161156Z
LAST-MODIFIED:20260223T161156Z
UID:10002596-1773334800-1773340200@www.visionforequality.org
SUMMARY:Using The LifeCourse to Plan and Problem Solve - Part 2
DESCRIPTION:[vc_row][vc_column][vc_column_text css=””]Join the PA Family Network in part-2 of this interactive 2-part workshop to…  \n\nIdentify service/supports so your loved one can live an Everyday Life \nLearn to use the LifeCourse framework and tools to plan for your future! \n\nRegister here – https://zoom.us/meeting/register/G6_0Or4rQJqYv9oR5j5fpA[/vc_column_text][/vc_column][/vc_row]
URL:https://www.visionforequality.org/event/using-the-lifecourse-to-plan-and-problem-solve-part-2-19/
CATEGORIES:PA Family Network
ATTACH;FMTTYPE=image/png:https://www.visionforequality.org/wp-content/uploads/2023/07/VFE.PAFN_Logo_Color_-4-e1690222037799.png
END:VEVENT
BEGIN:VEVENT
DTSTART;TZID=America/New_York:20260316T180000
DTEND;TZID=America/New_York:20260316T200000
DTSTAMP:20260423T124158
CREATED:20260223T161809Z
LAST-MODIFIED:20260223T161809Z
UID:10002597-1773684000-1773691200@www.visionforequality.org
SUMMARY:Transitions Through the Lifespan - Siblings
DESCRIPTION:[vc_row][vc_column][vc_column_text css=””]Join PA Family Network Sibling Advisors in this interactive workshop to…  \n\nObtain information and identify services\, supports\, and resources \nUtilize the LifeCourse Framework to plan for transitions in early childhood\, school age\, high school\, adulthood\, aging\, and through medical transitions \n\nRegister here – https://zoom.us/meeting/register/ZzkJX-QmRvepizdi9tMDzw[/vc_column_text][/vc_column][/vc_row]
URL:https://www.visionforequality.org/event/transitions-through-the-lifespan-siblings-5/
CATEGORIES:PA Family Network
ATTACH;FMTTYPE=image/png:https://www.visionforequality.org/wp-content/uploads/2023/07/VFE.PAFN_Logo_Color_-4-e1690222037799.png
END:VEVENT
BEGIN:VEVENT
DTSTART;TZID=America/New_York:20260317T183000
DTEND;TZID=America/New_York:20260317T200000
DTSTAMP:20260423T124158
CREATED:20260223T155223Z
LAST-MODIFIED:20260223T155223Z
UID:10002593-1773772200-1773777600@www.visionforequality.org
SUMMARY:Caregiver Support Group
DESCRIPTION:[vc_row][vc_column][vc_column_text css=””]We have a safe place\, meeting EACH MONTH\, for you to connect with other caregivers who understand the things you are dealing with and find the support you need as a caregiver.  \n\nIn this support group\, we talk about stress\, self-care\, family dynamics\, and more.  \nWe want to care for you as you care for your loved one(s).  \nThe last twenty (20) minutes of the meeting will focus on relaxation techniques and your loved ones are welcomed to join us at that time. \n\nRegister here – https://zoom.us/meeting/register/6jkQOKNqRjmgC7-osnICAg[/vc_column_text][/vc_column][/vc_row]
URL:https://www.visionforequality.org/event/caregiver-support-group-71/
CATEGORIES:PA Family Network
ATTACH;FMTTYPE=image/png:https://www.visionforequality.org/wp-content/uploads/2023/07/VFE.PAFN_Logo_Color_-4-e1690222037799.png
END:VEVENT
BEGIN:VEVENT
DTSTART;TZID=America/New_York:20260318T100000
DTEND;TZID=America/New_York:20260318T120000
DTSTAMP:20260423T124158
CREATED:20260223T164429Z
LAST-MODIFIED:20260223T164429Z
UID:10002600-1773828000-1773835200@www.visionforequality.org
SUMMARY:Waiver Basics\, Part 2
DESCRIPTION:[vc_row][vc_column][vc_column_text css=””] Join the PA Family Network in part-2 of this 2-part workshop to learn how waivers can support your loved one. Target Audience: Families with individuals just entering the system.  \n\nAddress the importance of having a vision of your loved one’s needs to live a good life \nBasic information of how to register\, apply\, and access waiver services \nIndividual Supports Plan (ISP) Basics\n\nRegister here – https://zoom.us/meeting/register/0fb1avYnQGqrtoIaLb5Opg[/vc_column_text][/vc_column][/vc_row]
URL:https://www.visionforequality.org/event/waiver-basics-part-2-34/
CATEGORIES:PA Family Network
END:VEVENT
BEGIN:VEVENT
DTSTART;TZID=America/New_York:20260320T183000
DTEND;TZID=America/New_York:20260320T203000
DTSTAMP:20260423T124158
CREATED:20260223T164935Z
LAST-MODIFIED:20260223T164935Z
UID:10002601-1774031400-1774038600@www.visionforequality.org
SUMMARY:Advanced Waiver\, Part 1
DESCRIPTION:[vc_row][vc_column][vc_column_text css=””] Join the PA Family Network Advisors in this 2-part workshop which will expand in more detail what was presented in the Waiver Basics Workshops and how waivers can support your loved one.  \n\nLearn more about the various services defined under waivers and some of their limits\, requirements\, and options \nGuide participants on researching waivers\, utilizing resources and understanding your rights and responsibilities \nDiscussion of the various waiver document Appendices\, Due Process\, Fair Hearing and More \n\nRegister here – https://zoom.us/meeting/register/68xWNBb6Qw-aB6luZlUM8Q[/vc_column_text][/vc_column][/vc_row]
URL:https://www.visionforequality.org/event/advanced-waiver-part-1-21/
CATEGORIES:PA Family Network
ATTACH;FMTTYPE=image/png:https://www.visionforequality.org/wp-content/uploads/2023/07/VFE.PAFN_Logo_Color_-4-e1690222037799.png
END:VEVENT
BEGIN:VEVENT
DTSTART;TZID=America/New_York:20260323T183000
DTEND;TZID=America/New_York:20260323T200000
DTSTAMP:20260423T124158
CREATED:20260223T155713Z
LAST-MODIFIED:20260223T155713Z
UID:10002594-1774290600-1774296000@www.visionforequality.org
SUMMARY:Sibling Good Life Group
DESCRIPTION:[vc_row][vc_column][vc_column_text css=””]This group of adult siblings will have the opportunity to…   \n\nGuide the group’s direction and network with other siblings \nTalk about your lived experience\, hear from experts on topics relevant to sibling life\, have open and informative discussions\, and plan for a future that holds true potential for you and your family. \n\nAnyone thought of like a sibling or in a sibling-like role is welcome!  \nRegister here – https://zoom.us/meeting/register/sMzZ4mBCSLSgcYBjeiqG3w\n[/vc_column_text][/vc_column][/vc_row]
URL:https://www.visionforequality.org/event/sibling-good-life-group-33/
CATEGORIES:PA Family Network
ATTACH;FMTTYPE=image/png:https://www.visionforequality.org/wp-content/uploads/2022/09/VFE.PAFN_Logo_Color_-e1662128164669.png
END:VEVENT
BEGIN:VEVENT
DTSTART;TZID=America/New_York:20260326T130000
DTEND;TZID=America/New_York:20260326T150000
DTSTAMP:20260423T124158
CREATED:20260223T162455Z
LAST-MODIFIED:20260223T162455Z
UID:10002598-1774530000-1774537200@www.visionforequality.org
SUMMARY:Peace of Mind Long Term Planning
DESCRIPTION:[vc_row][vc_column][vc_column_text css=””]Join the PA Family Network in this interactive workshop to…  \n\nGet information and strategies on handling Long Term Planning* \n\n\nIdentify services/supports so you and your loved one can live a good life \n\n*We cannot offer legal or financial advice \nRegister here – https://zoom.us/meeting/register/d3gAbm4iTlCD8mOEIzK3jg[/vc_column_text][/vc_column][/vc_row]
URL:https://www.visionforequality.org/event/peace-of-mind-long-term-planning-21/
CATEGORIES:PA Family Network
ATTACH;FMTTYPE=image/png:https://www.visionforequality.org/wp-content/uploads/2023/07/VFE.PAFN_Logo_Color_-4-e1690222037799.png
END:VEVENT
BEGIN:VEVENT
DTSTART;TZID=America/New_York:20260327T183000
DTEND;TZID=America/New_York:20260327T203000
DTSTAMP:20260423T124158
CREATED:20260223T165356Z
LAST-MODIFIED:20260223T165356Z
UID:10002602-1774636200-1774643400@www.visionforequality.org
SUMMARY:Advanced Waiver\, Part 2
DESCRIPTION:[vc_row][vc_column][vc_column_text css=””]Join the PA Family Network Advisors in this 2-part workshop which will expand in more detail what was presented in the Waiver Basics Workshops and how waivers can support your loved one.  \n\nLearn more about the various services defined under waivers and some of their limits\, requirements\, and options \nGuide participants on researching waivers\, utilizing resources and understanding your rights and responsibilities \nDiscussion of the various waiver document Appendices\, Due Process\, Fair Hearing and More \n\nRegister here – https://zoom.us/meeting/register/9TvymnLtTAubZXZDgm2hsQ[/vc_column_text][/vc_column][/vc_row]
URL:https://www.visionforequality.org/event/advanced-waiver-part-2-22/
CATEGORIES:PA Family Network
ATTACH;FMTTYPE=image/png:https://www.visionforequality.org/wp-content/uploads/2023/07/VFE.PAFN_Logo_Color_-4-e1690222037799.png
END:VEVENT
END:VCALENDAR