BEGIN:VCALENDAR
VERSION:2.0
PRODID:-//Vision For Equality - ECPv6.15.20//NONSGML v1.0//EN
CALSCALE:GREGORIAN
METHOD:PUBLISH
X-WR-CALNAME:Vision For Equality
X-ORIGINAL-URL:https://www.visionforequality.org
X-WR-CALDESC:Events for Vision For Equality
REFRESH-INTERVAL;VALUE=DURATION:PT1H
X-Robots-Tag:noindex
X-PUBLISHED-TTL:PT1H
BEGIN:VTIMEZONE
TZID:America/New_York
BEGIN:DAYLIGHT
TZOFFSETFROM:-0500
TZOFFSETTO:-0400
TZNAME:EDT
DTSTART:20240310T070000
END:DAYLIGHT
BEGIN:STANDARD
TZOFFSETFROM:-0400
TZOFFSETTO:-0500
TZNAME:EST
DTSTART:20241103T060000
END:STANDARD
BEGIN:DAYLIGHT
TZOFFSETFROM:-0500
TZOFFSETTO:-0400
TZNAME:EDT
DTSTART:20250309T070000
END:DAYLIGHT
BEGIN:STANDARD
TZOFFSETFROM:-0400
TZOFFSETTO:-0500
TZNAME:EST
DTSTART:20251102T060000
END:STANDARD
BEGIN:DAYLIGHT
TZOFFSETFROM:-0500
TZOFFSETTO:-0400
TZNAME:EDT
DTSTART:20260308T070000
END:DAYLIGHT
BEGIN:STANDARD
TZOFFSETFROM:-0400
TZOFFSETTO:-0500
TZNAME:EST
DTSTART:20261101T060000
END:STANDARD
END:VTIMEZONE
BEGIN:VEVENT
DTSTART;TZID=America/New_York:20251105T143000
DTEND;TZID=America/New_York:20251105T160000
DTSTAMP:20260423T201952
CREATED:20251015T144717Z
LAST-MODIFIED:20251015T144717Z
UID:10002484-1762353000-1762358400@www.visionforequality.org
SUMMARY:Caregiver Support Group
DESCRIPTION:[vc_row][vc_column][vc_column_text css=””]Caregiver Support Group  \nWe have a safe place\, meeting EACH MONTH\, for you to connect with other caregivers who understand the things you are dealing with and find the support you need as a caregiver.  \n\nIn this support group\, we talk about stress\, self-care\, family dynamics\, and more.  \nWe want to care for you as you care for your loved one(s).  \nThe last twenty (20) minutes of the meeting will focus on relaxation techniques and your loved ones are welcomed to join us at that time. \n\nRegister here – https://zoom.us/meeting/register/ibmflcgLRdGzSx1Zp3fXDw[/vc_column_text][/vc_column][/vc_row]
URL:https://www.visionforequality.org/event/caregiver-support-group-62/
CATEGORIES:PA Family Network
ATTACH;FMTTYPE=image/png:https://www.visionforequality.org/wp-content/uploads/2023/07/VFE.PAFN_Logo_Color_-4-e1690222037799.png
END:VEVENT
BEGIN:VEVENT
DTSTART;TZID=America/New_York:20251105T183000
DTEND;TZID=America/New_York:20251105T203000
DTSTAMP:20260423T201952
CREATED:20251015T151217Z
LAST-MODIFIED:20251015T151217Z
UID:10002491-1762367400-1762374600@www.visionforequality.org
SUMMARY:Peace of Mind Long-Term Planning - Siblings
DESCRIPTION:[vc_row][vc_column][vc_column_text css=””]Join the PA Family Network Sibling Advisors in this interactive workshop to: \n\nNetwork and meet other adult siblings\nGet information and strategies on handling Long Term Planning*\nIdentify services/supports so you and your loved one can live a good life\n\nRegister here – https://zoom.us/meeting/register/EGvp8YhuQ8Caaq5K6R6ekw[/vc_column_text][/vc_column][/vc_row]
URL:https://www.visionforequality.org/event/peace-of-mind-long-term-planning-siblings-3/
LOCATION:Virtual\, PA\, United States
CATEGORIES:PA Family Network
ATTACH;FMTTYPE=image/png:https://www.visionforequality.org/wp-content/uploads/2022/09/VFE.PAFN_Logo_Color_-e1662128164669.png
ORGANIZER;CN="PA Family Network":MAILTO:PaFamilyNetwork@visionforequality.org
END:VEVENT
END:VCALENDAR