BEGIN:VCALENDAR
VERSION:2.0
PRODID:-//Vision For Equality - ECPv6.15.20//NONSGML v1.0//EN
CALSCALE:GREGORIAN
METHOD:PUBLISH
X-WR-CALNAME:Vision For Equality
X-ORIGINAL-URL:https://www.visionforequality.org
X-WR-CALDESC:Events for Vision For Equality
REFRESH-INTERVAL;VALUE=DURATION:PT1H
X-Robots-Tag:noindex
X-PUBLISHED-TTL:PT1H
BEGIN:VTIMEZONE
TZID:America/New_York
BEGIN:DAYLIGHT
TZOFFSETFROM:-0500
TZOFFSETTO:-0400
TZNAME:EDT
DTSTART:20240310T070000
END:DAYLIGHT
BEGIN:STANDARD
TZOFFSETFROM:-0400
TZOFFSETTO:-0500
TZNAME:EST
DTSTART:20241103T060000
END:STANDARD
BEGIN:DAYLIGHT
TZOFFSETFROM:-0500
TZOFFSETTO:-0400
TZNAME:EDT
DTSTART:20250309T070000
END:DAYLIGHT
BEGIN:STANDARD
TZOFFSETFROM:-0400
TZOFFSETTO:-0500
TZNAME:EST
DTSTART:20251102T060000
END:STANDARD
BEGIN:DAYLIGHT
TZOFFSETFROM:-0500
TZOFFSETTO:-0400
TZNAME:EDT
DTSTART:20260308T070000
END:DAYLIGHT
BEGIN:STANDARD
TZOFFSETFROM:-0400
TZOFFSETTO:-0500
TZNAME:EST
DTSTART:20261101T060000
END:STANDARD
END:VTIMEZONE
BEGIN:VEVENT
DTSTART;TZID=America/New_York:20251118T183000
DTEND;TZID=America/New_York:20251118T200000
DTSTAMP:20260423T202018
CREATED:20251015T145050Z
LAST-MODIFIED:20251015T145050Z
UID:10002485-1763490600-1763496000@www.visionforequality.org
SUMMARY:Caregiver Support Group
DESCRIPTION:[vc_row][vc_column][vc_column_text css=””]Caregiver Support Group  \nWe have a safe place\, meeting EACH MONTH\, for you to connect with other caregivers who understand the things you are dealing with and find the support you need as a caregiver.  \n\nIn this support group\, we talk about stress\, self-care\, family dynamics\, and more.  \nWe want to care for you as you care for your loved one(s).  \nThe last twenty (20) minutes of the meeting will focus on relaxation techniques and your loved ones are welcomed to join us at that time. \n\nRegister here – https://zoom.us/meeting/register/QLfq-TrXTeif7c7bdAzJig[/vc_column_text][/vc_column][/vc_row]
URL:https://www.visionforequality.org/event/caregiver-support-group-63/
CATEGORIES:PA Family Network
ATTACH;FMTTYPE=image/png:https://www.visionforequality.org/wp-content/uploads/2023/07/VFE.PAFN_Logo_Color_-4-e1690222037799.png
END:VEVENT
END:VCALENDAR