BEGIN:VCALENDAR
VERSION:2.0
PRODID:-//Vision For Equality - ECPv6.15.20//NONSGML v1.0//EN
CALSCALE:GREGORIAN
METHOD:PUBLISH
X-WR-CALNAME:Vision For Equality
X-ORIGINAL-URL:https://www.visionforequality.org
X-WR-CALDESC:Events for Vision For Equality
REFRESH-INTERVAL;VALUE=DURATION:PT1H
X-Robots-Tag:noindex
X-PUBLISHED-TTL:PT1H
BEGIN:VTIMEZONE
TZID:America/New_York
BEGIN:DAYLIGHT
TZOFFSETFROM:-0500
TZOFFSETTO:-0400
TZNAME:EDT
DTSTART:20240310T070000
END:DAYLIGHT
BEGIN:STANDARD
TZOFFSETFROM:-0400
TZOFFSETTO:-0500
TZNAME:EST
DTSTART:20241103T060000
END:STANDARD
BEGIN:DAYLIGHT
TZOFFSETFROM:-0500
TZOFFSETTO:-0400
TZNAME:EDT
DTSTART:20250309T070000
END:DAYLIGHT
BEGIN:STANDARD
TZOFFSETFROM:-0400
TZOFFSETTO:-0500
TZNAME:EST
DTSTART:20251102T060000
END:STANDARD
BEGIN:DAYLIGHT
TZOFFSETFROM:-0500
TZOFFSETTO:-0400
TZNAME:EDT
DTSTART:20260308T070000
END:DAYLIGHT
BEGIN:STANDARD
TZOFFSETFROM:-0400
TZOFFSETTO:-0500
TZNAME:EST
DTSTART:20261101T060000
END:STANDARD
END:VTIMEZONE
BEGIN:VEVENT
DTSTART;TZID=America/New_York:20251209T100000
DTEND;TZID=America/New_York:20251209T120000
DTSTAMP:20260423T185719
CREATED:20251119T183929Z
LAST-MODIFIED:20251119T183929Z
UID:10002508-1765274400-1765281600@www.visionforequality.org
SUMMARY:Transitions Through the Lifespan
DESCRIPTION:[vc_row][vc_column][vc_column_text css=””]Transitions Through the Lifespan  \nJoin PA Family Network in this interactive workshop to…  \n\nObtain information and identify services\, supports\, and resources \nUtilize the LifeCourse Framework to plan for transitions in early childhood\, school age\, high school\, adulthood\, aging\, and through medical transitions \n\n\nRegister here – https://zoom.us/meeting/register/uv5nkHzoSMm6jfBLj9fqUg\n\n[/vc_column_text][/vc_column][/vc_row]
URL:https://www.visionforequality.org/event/transitions-through-the-lifespan-30/
CATEGORIES:PA Family Network
ATTACH;FMTTYPE=image/png:https://www.visionforequality.org/wp-content/uploads/2023/07/VFE.PAFN_Logo_Color_-4-e1690222037799.png
END:VEVENT
END:VCALENDAR