BEGIN:VCALENDAR
VERSION:2.0
PRODID:-//Vision For Equality - ECPv6.15.20//NONSGML v1.0//EN
CALSCALE:GREGORIAN
METHOD:PUBLISH
X-ORIGINAL-URL:https://www.visionforequality.org
X-WR-CALDESC:Events for Vision For Equality
REFRESH-INTERVAL;VALUE=DURATION:PT1H
X-Robots-Tag:noindex
X-PUBLISHED-TTL:PT1H
BEGIN:VTIMEZONE
TZID:America/New_York
BEGIN:DAYLIGHT
TZOFFSETFROM:-0500
TZOFFSETTO:-0400
TZNAME:EDT
DTSTART:20240310T070000
END:DAYLIGHT
BEGIN:STANDARD
TZOFFSETFROM:-0400
TZOFFSETTO:-0500
TZNAME:EST
DTSTART:20241103T060000
END:STANDARD
BEGIN:DAYLIGHT
TZOFFSETFROM:-0500
TZOFFSETTO:-0400
TZNAME:EDT
DTSTART:20250309T070000
END:DAYLIGHT
BEGIN:STANDARD
TZOFFSETFROM:-0400
TZOFFSETTO:-0500
TZNAME:EST
DTSTART:20251102T060000
END:STANDARD
BEGIN:DAYLIGHT
TZOFFSETFROM:-0500
TZOFFSETTO:-0400
TZNAME:EDT
DTSTART:20260308T070000
END:DAYLIGHT
BEGIN:STANDARD
TZOFFSETFROM:-0400
TZOFFSETTO:-0500
TZNAME:EST
DTSTART:20261101T060000
END:STANDARD
END:VTIMEZONE
BEGIN:VEVENT
DTSTART;TZID=America/New_York:20251212T110000
DTEND;TZID=America/New_York:20251212T130000
DTSTAMP:20260423T185805
CREATED:20251119T185539Z
LAST-MODIFIED:20251119T185539Z
UID:10002512-1765537200-1765544400@www.visionforequality.org
SUMMARY:Waiver Basics\, Part 2
DESCRIPTION:[vc_row][vc_column][vc_column_text css=””]Waiver Basics\, Part 2   \nJoin the PA Family Network in this 2-part workshop to learn how waivers can support your loved one. Target Audience: Families with individuals just entering the system.  \n\nAddress the importance of having a vision of your loved one’s needs to live a good life \nBasic information of how to register\, apply\, and access waiver services \nIndividual Supports Plan (ISP) Basics\n\nRegister here – https://zoom.us/meeting/register/zaZ0w0SXShmtaglP1eNGaA[/vc_column_text][/vc_column][/vc_row]
URL:https://www.visionforequality.org/event/waiver-basics-part-2-31/
CATEGORIES:PA Family Network
END:VEVENT
END:VCALENDAR