BEGIN:VCALENDAR
VERSION:2.0
PRODID:-//Vision For Equality - ECPv6.15.20//NONSGML v1.0//EN
CALSCALE:GREGORIAN
METHOD:PUBLISH
X-WR-CALNAME:Vision For Equality
X-ORIGINAL-URL:https://www.visionforequality.org
X-WR-CALDESC:Events for Vision For Equality
REFRESH-INTERVAL;VALUE=DURATION:PT1H
X-Robots-Tag:noindex
X-PUBLISHED-TTL:PT1H
BEGIN:VTIMEZONE
TZID:America/New_York
BEGIN:DAYLIGHT
TZOFFSETFROM:-0500
TZOFFSETTO:-0400
TZNAME:EDT
DTSTART:20250309T070000
END:DAYLIGHT
BEGIN:STANDARD
TZOFFSETFROM:-0400
TZOFFSETTO:-0500
TZNAME:EST
DTSTART:20251102T060000
END:STANDARD
BEGIN:DAYLIGHT
TZOFFSETFROM:-0500
TZOFFSETTO:-0400
TZNAME:EDT
DTSTART:20260308T070000
END:DAYLIGHT
BEGIN:STANDARD
TZOFFSETFROM:-0400
TZOFFSETTO:-0500
TZNAME:EST
DTSTART:20261101T060000
END:STANDARD
BEGIN:DAYLIGHT
TZOFFSETFROM:-0500
TZOFFSETTO:-0400
TZNAME:EDT
DTSTART:20270314T070000
END:DAYLIGHT
BEGIN:STANDARD
TZOFFSETFROM:-0400
TZOFFSETTO:-0500
TZNAME:EST
DTSTART:20271107T060000
END:STANDARD
END:VTIMEZONE
BEGIN:VEVENT
DTSTART;TZID=America/New_York:20260105T183000
DTEND;TZID=America/New_York:20260105T203000
DTSTAMP:20260423T173604
CREATED:20251218T154211Z
LAST-MODIFIED:20251218T154211Z
UID:10002522-1767637800-1767645000@www.visionforequality.org
SUMMARY:Advanced Waiver\, Part 1 - Siblings
DESCRIPTION:[vc_row][vc_column][vc_column_text css=””]Join the PA Family Network Sibling Advisors in part-1 of this 2-part workshop which will expand in more detail what was presented in the Waiver Basics Workshops and how waivers can support your loved one.  \n\nLearn more about the various services defined under waivers and some of their limits\, requirements\, and options \nGuide participants on researching waivers\, utilizing resources and understanding your rights and responsibilities \nDiscussion of the various waiver document Appendices\, Due Process\, Fair Hearing and More \n\nRegister here –  https://zoom.us/meeting/register/lyxqju25R_OOuEGDUOlsZw [/vc_column_text][/vc_column][/vc_row]
URL:https://www.visionforequality.org/event/advanced-waiver-part-1-siblings-3/
CATEGORIES:PA Family Network
ATTACH;FMTTYPE=image/png:https://www.visionforequality.org/wp-content/uploads/2023/07/VFE.PAFN_Logo_Color_-4-e1690222037799.png
END:VEVENT
END:VCALENDAR