BEGIN:VCALENDAR
VERSION:2.0
PRODID:-//Vision For Equality - ECPv6.15.20//NONSGML v1.0//EN
CALSCALE:GREGORIAN
METHOD:PUBLISH
X-WR-CALNAME:Vision For Equality
X-ORIGINAL-URL:https://www.visionforequality.org
X-WR-CALDESC:Events for Vision For Equality
REFRESH-INTERVAL;VALUE=DURATION:PT1H
X-Robots-Tag:noindex
X-PUBLISHED-TTL:PT1H
BEGIN:VTIMEZONE
TZID:America/New_York
BEGIN:DAYLIGHT
TZOFFSETFROM:-0500
TZOFFSETTO:-0400
TZNAME:EDT
DTSTART:20250309T070000
END:DAYLIGHT
BEGIN:STANDARD
TZOFFSETFROM:-0400
TZOFFSETTO:-0500
TZNAME:EST
DTSTART:20251102T060000
END:STANDARD
BEGIN:DAYLIGHT
TZOFFSETFROM:-0500
TZOFFSETTO:-0400
TZNAME:EDT
DTSTART:20260308T070000
END:DAYLIGHT
BEGIN:STANDARD
TZOFFSETFROM:-0400
TZOFFSETTO:-0500
TZNAME:EST
DTSTART:20261101T060000
END:STANDARD
BEGIN:DAYLIGHT
TZOFFSETFROM:-0500
TZOFFSETTO:-0400
TZNAME:EDT
DTSTART:20270314T070000
END:DAYLIGHT
BEGIN:STANDARD
TZOFFSETFROM:-0400
TZOFFSETTO:-0500
TZNAME:EST
DTSTART:20271107T060000
END:STANDARD
END:VTIMEZONE
BEGIN:VEVENT
DTSTART;TZID=America/New_York:20260425T090000
DTEND;TZID=America/New_York:20260425T110000
DTSTAMP:20260423T122618
CREATED:20260331T134302Z
LAST-MODIFIED:20260331T134302Z
UID:10002786-1777107600-1777114800@www.visionforequality.org
SUMMARY:Advanced Waiver\, Part 2
DESCRIPTION:[vc_row][vc_column][vc_column_text css=””]Join the PA Family Network Advisors in this 2-part workshop which will expand in more detail what was presented in the Waiver Basics Workshops and how waivers can support your loved one.  \n\nLearn more about the various services defined under waivers and some of their limits\, requirements\, and options \nGuide participants on researching waivers\, utilizing resources and understanding your rights and responsibilities \nDiscussion of the various waiver document Appendices\, Due Process\, Fair Hearing and More \n\nRegister here – https://zoom.us/meeting/register/mrtSOD2XQ5OD5dUwetYJ0w[/vc_column_text][/vc_column][/vc_row]
URL:https://www.visionforequality.org/event/advanced-waiver-part-2-23/
CATEGORIES:PA Family Network
ATTACH;FMTTYPE=image/png:https://www.visionforequality.org/wp-content/uploads/2023/07/VFE.PAFN_Logo_Color_-4-e1690222037799.png
END:VEVENT
BEGIN:VEVENT
DTSTART;TZID=America/New_York:20260427T183000
DTEND;TZID=America/New_York:20260427T200000
DTSTAMP:20260423T122618
CREATED:20260323T145235Z
LAST-MODIFIED:20260323T145235Z
UID:10002610-1777314600-1777320000@www.visionforequality.org
SUMMARY:Sibling Good Life Group
DESCRIPTION:[vc_row][vc_column][vc_column_text css=””]This group of adult siblings will have the opportunity to…   \n\nGuide the group’s direction and network with other siblings \nTalk about your lived experience\, hear from experts on topics relevant to sibling life\, have open and informative discussions\, and plan for a future that holds true potential for you and your family. \n\nAnyone thought of like a sibling or in a sibling-like role is welcome!  \nRegister here – https://zoom.us/meeting/register/goMtgrk0SsSBFKsmUBMPZQ\n[/vc_column_text][/vc_column][/vc_row]
URL:https://www.visionforequality.org/event/sibling-good-life-group-34/
CATEGORIES:PA Family Network
ATTACH;FMTTYPE=image/png:https://www.visionforequality.org/wp-content/uploads/2022/09/VFE.PAFN_Logo_Color_-e1662128164669.png
END:VEVENT
BEGIN:VEVENT
DTSTART;TZID=America/New_York:20260428T140000
DTEND;TZID=America/New_York:20260428T160000
DTSTAMP:20260423T122618
CREATED:20260331T134733Z
LAST-MODIFIED:20260331T134733Z
UID:10002788-1777384800-1777392000@www.visionforequality.org
SUMMARY:Advanced Waiver\, Part 2
DESCRIPTION:[vc_row][vc_column][vc_column_text css=””]Join the PA Family Network Advisors in this 2-part workshop which will expand in more detail what was presented in the Waiver Basics Workshops and how waivers can support your loved one.  \n\nLearn more about the various services defined under waivers and some of their limits\, requirements\, and options \nGuide participants on researching waivers\, utilizing resources and understanding your rights and responsibilities \nDiscussion of the various waiver document Appendices\, Due Process\, Fair Hearing and More \n\nRegister here – https://zoom.us/meeting/register/uwtRG4mlSPWtTp6P2NInTg[/vc_column_text][/vc_column][/vc_row]
URL:https://www.visionforequality.org/event/advanced-waiver-part-2-24/
CATEGORIES:PA Family Network
ATTACH;FMTTYPE=image/png:https://www.visionforequality.org/wp-content/uploads/2023/07/VFE.PAFN_Logo_Color_-4-e1690222037799.png
END:VEVENT
BEGIN:VEVENT
DTSTART;TZID=America/New_York:20260430T180000
DTEND;TZID=America/New_York:20260430T200000
DTSTAMP:20260423T122618
CREATED:20260323T150348Z
LAST-MODIFIED:20260323T150348Z
UID:10002613-1777572000-1777579200@www.visionforequality.org
SUMMARY:Peace of Mind Long Term Planning
DESCRIPTION:[vc_row][vc_column][vc_column_text css=””]Join the PA Family Network in this interactive workshop to…  \n\nGet information and strategies on handling Long Term Planning* \n\n\nIdentify services/supports so you and your loved one can live a good life \n\n*We cannot offer legal or financial advice \nRegister here – https://zoom.us/meeting/register/4UE3AGITRruCp3RUX2Jm9g[/vc_column_text][/vc_column][/vc_row]
URL:https://www.visionforequality.org/event/peace-of-mind-long-term-planning-22/
CATEGORIES:PA Family Network
ATTACH;FMTTYPE=image/png:https://www.visionforequality.org/wp-content/uploads/2023/07/VFE.PAFN_Logo_Color_-4-e1690222037799.png
END:VEVENT
END:VCALENDAR