BEGIN:VCALENDAR
VERSION:2.0
PRODID:-//Vision For Equality - ECPv6.15.20//NONSGML v1.0//EN
CALSCALE:GREGORIAN
METHOD:PUBLISH
X-WR-CALNAME:Vision For Equality
X-ORIGINAL-URL:https://www.visionforequality.org
X-WR-CALDESC:Events for Vision For Equality
REFRESH-INTERVAL;VALUE=DURATION:PT1H
X-Robots-Tag:noindex
X-PUBLISHED-TTL:PT1H
BEGIN:VTIMEZONE
TZID:America/New_York
BEGIN:DAYLIGHT
TZOFFSETFROM:-0500
TZOFFSETTO:-0400
TZNAME:EDT
DTSTART:20250309T070000
END:DAYLIGHT
BEGIN:STANDARD
TZOFFSETFROM:-0400
TZOFFSETTO:-0500
TZNAME:EST
DTSTART:20251102T060000
END:STANDARD
BEGIN:DAYLIGHT
TZOFFSETFROM:-0500
TZOFFSETTO:-0400
TZNAME:EDT
DTSTART:20260308T070000
END:DAYLIGHT
BEGIN:STANDARD
TZOFFSETFROM:-0400
TZOFFSETTO:-0500
TZNAME:EST
DTSTART:20261101T060000
END:STANDARD
BEGIN:DAYLIGHT
TZOFFSETFROM:-0500
TZOFFSETTO:-0400
TZNAME:EDT
DTSTART:20270314T070000
END:DAYLIGHT
BEGIN:STANDARD
TZOFFSETFROM:-0400
TZOFFSETTO:-0500
TZNAME:EST
DTSTART:20271107T060000
END:STANDARD
END:VTIMEZONE
BEGIN:VEVENT
DTSTART;TZID=America/New_York:20260303T183000
DTEND;TZID=America/New_York:20260303T193000
DTSTAMP:20260423T153937
CREATED:20250422T200651Z
LAST-MODIFIED:20250701T141622Z
UID:10002204-1772562600-1772566200@www.visionforequality.org
SUMMARY:Philadelphia Caregiver Support Group\, Birth- Five (First Tuesday)
DESCRIPTION:[vc_row][vc_column][vc_column_text css=””]\nThis is a recurring meeting\, held the First Tuesday of each month. Do you live in Philadelphia and care for a child five years old or younger with an intellectual/developmental disability or autism? \nRegister Here:https://us06web.zoom.us/meeting/register/3IpX_WKzSem27uRGKBYKcg#/registration\nWe want to help support you! \n\nConnect with other caregivers who “get it”\, learn tips on reducing stress and taking care of yourself as a caregiver.\nFor more information- Contact Program Manager: Chou Hallegra Phone: 215-923-3349 ext. 203\, challegra@visionforequality.org\n\n[/vc_column_text][/vc_column][/vc_row]
URL:https://www.visionforequality.org/event/philadelphia-caregiver-support-group-birth-five/2026-03-03/
CATEGORIES:System Navigation & Trauma Informed Care,Vision For Equality
ATTACH;FMTTYPE=image/jpeg:https://www.visionforequality.org/wp-content/uploads/2025/04/Vision-for-Equality-Logo-scaled.jpg
END:VEVENT
BEGIN:VEVENT
DTSTART;TZID=America/New_York:20260312T183000
DTEND;TZID=America/New_York:20260312T193000
DTSTAMP:20260423T153937
CREATED:20260226T171013Z
LAST-MODIFIED:20260226T171013Z
UID:10002603-1773340200-1773343800@www.visionforequality.org
SUMMARY:7 Types of Rest Needed for Caregiving: Workshop for All Caregivers
DESCRIPTION:[vc_row][vc_column][vc_column_text css=””]Rest is essential for our overall health and well-being\, but it is not just about getting enough sleep at night. Our minds and bodies need 7 different types of rest to feel refreshed and rejuvenated. Join us as we explore each type of rest and learn how to incorporate them into our daily routines. This workshop will be offered twice\, but you only need to register once. All those who register will receive the recording. \nDates: \nThursday\, March 12th @ 6:30 – 7:30 PM \n\nhttps://us06web.zoom.us/meeting/register/Ow17VvXQT0iE0n4zhhmVRg#/registration\n\nWednesday\, March 18th @ 6:30 – 7:30 PM \n\nhttps://us06web.zoom.us/meeting/register/QLCHTzLZTACTOF-WjvZ6Tg#/registration\n\n[/vc_column_text][/vc_column][/vc_row]
URL:https://www.visionforequality.org/event/7-types-of-rest-needed-for-caregiving-workshop-for-all-caregivers/2026-03-12/
CATEGORIES:System Navigation & Trauma Informed Care,Vision For Equality
ATTACH;FMTTYPE=image/jpeg:https://www.visionforequality.org/wp-content/uploads/2025/04/Vision-for-Equality-Logo-scaled.jpg
END:VEVENT
BEGIN:VEVENT
DTSTART;TZID=America/New_York:20260314T113000
DTEND;TZID=America/New_York:20260314T163000
DTSTAMP:20260423T153937
CREATED:20260220T141025Z
LAST-MODIFIED:20260220T141025Z
UID:10002591-1773487800-1773505800@www.visionforequality.org
SUMMARY:Mini-Retreat for Caregivers of Individuals with Disabilities
DESCRIPTION:[vc_row][vc_column][vc_column_text css=””]\n\nIf you are caring for someone with intellectual and/or developmental disabilities\, including autism\, we invite you to join us!\n\n\n\n\n\n\nIf you are caring for someone with intellectual and/or developmental disabilities\, including autism\, we invite you to join us for a mini-retreat. This is your time to connect with other caregivers and learn about simple\, yet effective ways to de-stress. \nThis event is free to attend. Registration is required. Lunch and snacks will be served. \nActivities include: \n\nGratitude wall\nReflexology\nChair Yoga\nMeditation\nJournaling\nGroup Discussion\, and more.\n\nChildcare is not provided\, but you are welcome to have your family join you for this event. \nSpace is limited\, secure your spot today! \nTime: 11:30 AM – 4:30 PM \nLocation: CHOP\, Roberts Center for Pediatric Research \n2716 South St.\, Philadelphia\, 19146. \nRegister Here- https://www.eventbrite.com/e/mini-retreat-for-caregivers-of-individuals-with-disabilities-tickets-1980402107013?aff=oddtdtcreator  \nLimited tickets remain! \nImportant Parking Information: \nIf you are driving to the building\, please use the following address for GPS directions to take you to the back entrance and visitors lot\, as the front of the building is under construction: \n734 Schuylkill Avenue \nPhiladelphia\, PA 19146 \nYou will drive past the entrance on Schuylkill Ave and enter the parking lot at the gate at the end\, taking a ticket. Parking vouchers for free parking will be available with your online registration\, but you will need your original ticket in order to exit the lot. When you enter the building at B-level\, you will take the elevators up to the first floor and go to the right toward the registration tables. \nThe Philadelphia Family Support Projects are funded by City of Philadelphia Department of Behavioral Health and Intellectual disAbility Services (DBHIDS). \n\n\n\n\n\n[/vc_column_text][/vc_column][/vc_row]
URL:https://www.visionforequality.org/event/mini-retreat-for-caregivers-of-individuals-with-disabilities/
CATEGORIES:System Navigation & Trauma Informed Care,Vision For Equality
ATTACH;FMTTYPE=image/jpeg:https://www.visionforequality.org/wp-content/uploads/2025/04/Vision-for-Equality-Logo-scaled.jpg
END:VEVENT
BEGIN:VEVENT
DTSTART;TZID=America/New_York:20260318T183000
DTEND;TZID=America/New_York:20260318T193000
DTSTAMP:20260423T153937
CREATED:20260226T171013Z
LAST-MODIFIED:20260226T171013Z
UID:10002604-1773858600-1773862200@www.visionforequality.org
SUMMARY:7 Types of Rest Needed for Caregiving: Workshop for All Caregivers
DESCRIPTION:[vc_row][vc_column][vc_column_text css=””]Rest is essential for our overall health and well-being\, but it is not just about getting enough sleep at night. Our minds and bodies need 7 different types of rest to feel refreshed and rejuvenated. Join us as we explore each type of rest and learn how to incorporate them into our daily routines. This workshop will be offered twice\, but you only need to register once. All those who register will receive the recording. \nDates: \nThursday\, March 12th @ 6:30 – 7:30 PM \n\nhttps://us06web.zoom.us/meeting/register/Ow17VvXQT0iE0n4zhhmVRg#/registration\n\nWednesday\, March 18th @ 6:30 – 7:30 PM \n\nhttps://us06web.zoom.us/meeting/register/QLCHTzLZTACTOF-WjvZ6Tg#/registration\n\n[/vc_column_text][/vc_column][/vc_row]
URL:https://www.visionforequality.org/event/7-types-of-rest-needed-for-caregiving-workshop-for-all-caregivers/2026-03-18/
CATEGORIES:System Navigation & Trauma Informed Care,Vision For Equality
ATTACH;FMTTYPE=image/jpeg:https://www.visionforequality.org/wp-content/uploads/2025/04/Vision-for-Equality-Logo-scaled.jpg
END:VEVENT
BEGIN:VEVENT
DTSTART;TZID=America/New_York:20260319T100000
DTEND;TZID=America/New_York:20260319T110000
DTSTAMP:20260423T153937
CREATED:20250422T200939Z
LAST-MODIFIED:20250701T141251Z
UID:10002264-1773914400-1773918000@www.visionforequality.org
SUMMARY:Philadelphia Caregiver Support Group\, Birth- Five (Third Thursday)
DESCRIPTION:[vc_row][vc_column][vc_column_text css=””]\nThis is a reoccurring meeting- held every Third Thursday of the month. Do you live in Philadelphia and care for a child five years old or younger with an intellectual/developmental disability or autism? \n  \nRegister Here: https://us06web.zoom.us/meeting/register/tZ0oceGgqjIrHNKkCJI4b6xHXBbl8aME5ehq#/registration \nWe want to help support you! \n\nConnect with other caregivers who “get it”\, learn tips on reducing stress and taking care of yourself as a caregiver.\nFor more information- Contact Program Manager: Chou Hallegra Phone: 215-923-3349 ext. 203\, challegra@visionforequality.org\n\n[/vc_column_text][/vc_column][/vc_row]
URL:https://www.visionforequality.org/event/philadelphia-caregiver-support-group-birth-five-third-thursday/2026-03-19/
CATEGORIES:System Navigation & Trauma Informed Care,Vision For Equality
ATTACH;FMTTYPE=image/jpeg:https://www.visionforequality.org/wp-content/uploads/2025/04/Vision-for-Equality-Logo-scaled.jpg
END:VEVENT
END:VCALENDAR