BEGIN:VCALENDAR
VERSION:2.0
PRODID:-//Vision For Equality - ECPv6.15.20//NONSGML v1.0//EN
CALSCALE:GREGORIAN
METHOD:PUBLISH
X-ORIGINAL-URL:https://www.visionforequality.org
X-WR-CALDESC:Events for Vision For Equality
REFRESH-INTERVAL;VALUE=DURATION:PT1H
X-Robots-Tag:noindex
X-PUBLISHED-TTL:PT1H
BEGIN:VTIMEZONE
TZID:America/New_York
BEGIN:DAYLIGHT
TZOFFSETFROM:-0500
TZOFFSETTO:-0400
TZNAME:EDT
DTSTART:20250309T070000
END:DAYLIGHT
BEGIN:STANDARD
TZOFFSETFROM:-0400
TZOFFSETTO:-0500
TZNAME:EST
DTSTART:20251102T060000
END:STANDARD
BEGIN:DAYLIGHT
TZOFFSETFROM:-0500
TZOFFSETTO:-0400
TZNAME:EDT
DTSTART:20260308T070000
END:DAYLIGHT
BEGIN:STANDARD
TZOFFSETFROM:-0400
TZOFFSETTO:-0500
TZNAME:EST
DTSTART:20261101T060000
END:STANDARD
BEGIN:DAYLIGHT
TZOFFSETFROM:-0500
TZOFFSETTO:-0400
TZNAME:EDT
DTSTART:20270314T070000
END:DAYLIGHT
BEGIN:STANDARD
TZOFFSETFROM:-0400
TZOFFSETTO:-0500
TZNAME:EST
DTSTART:20271107T060000
END:STANDARD
END:VTIMEZONE
BEGIN:VEVENT
DTSTART;TZID=America/New_York:20260318T183000
DTEND;TZID=America/New_York:20260318T193000
DTSTAMP:20260423T173425
CREATED:20260226T171013Z
LAST-MODIFIED:20260226T171013Z
UID:10002604-1773858600-1773862200@www.visionforequality.org
SUMMARY:7 Types of Rest Needed for Caregiving: Workshop for All Caregivers
DESCRIPTION:[vc_row][vc_column][vc_column_text css=””]Rest is essential for our overall health and well-being\, but it is not just about getting enough sleep at night. Our minds and bodies need 7 different types of rest to feel refreshed and rejuvenated. Join us as we explore each type of rest and learn how to incorporate them into our daily routines. This workshop will be offered twice\, but you only need to register once. All those who register will receive the recording. \nDates: \nThursday\, March 12th @ 6:30 – 7:30 PM \n\nhttps://us06web.zoom.us/meeting/register/Ow17VvXQT0iE0n4zhhmVRg#/registration\n\nWednesday\, March 18th @ 6:30 – 7:30 PM \n\nhttps://us06web.zoom.us/meeting/register/QLCHTzLZTACTOF-WjvZ6Tg#/registration\n\n[/vc_column_text][/vc_column][/vc_row]
URL:https://www.visionforequality.org/event/7-types-of-rest-needed-for-caregiving-workshop-for-all-caregivers/2026-03-18/
CATEGORIES:System Navigation & Trauma Informed Care,Vision For Equality
ATTACH;FMTTYPE=image/jpeg:https://www.visionforequality.org/wp-content/uploads/2025/04/Vision-for-Equality-Logo-scaled.jpg
END:VEVENT
END:VCALENDAR