BEGIN:VCALENDAR
VERSION:2.0
PRODID:-//Vision For Equality - ECPv6.15.20//NONSGML v1.0//EN
CALSCALE:GREGORIAN
METHOD:PUBLISH
X-WR-CALNAME:Vision For Equality
X-ORIGINAL-URL:https://www.visionforequality.org
X-WR-CALDESC:Events for Vision For Equality
REFRESH-INTERVAL;VALUE=DURATION:PT1H
X-Robots-Tag:noindex
X-PUBLISHED-TTL:PT1H
BEGIN:VTIMEZONE
TZID:America/New_York
BEGIN:DAYLIGHT
TZOFFSETFROM:-0500
TZOFFSETTO:-0400
TZNAME:EDT
DTSTART:20250309T070000
END:DAYLIGHT
BEGIN:STANDARD
TZOFFSETFROM:-0400
TZOFFSETTO:-0500
TZNAME:EST
DTSTART:20251102T060000
END:STANDARD
BEGIN:DAYLIGHT
TZOFFSETFROM:-0500
TZOFFSETTO:-0400
TZNAME:EDT
DTSTART:20260308T070000
END:DAYLIGHT
BEGIN:STANDARD
TZOFFSETFROM:-0400
TZOFFSETTO:-0500
TZNAME:EST
DTSTART:20261101T060000
END:STANDARD
BEGIN:DAYLIGHT
TZOFFSETFROM:-0500
TZOFFSETTO:-0400
TZNAME:EDT
DTSTART:20270314T070000
END:DAYLIGHT
BEGIN:STANDARD
TZOFFSETFROM:-0400
TZOFFSETTO:-0500
TZNAME:EST
DTSTART:20271107T060000
END:STANDARD
END:VTIMEZONE
BEGIN:VEVENT
DTSTART;TZID=America/New_York:20260112T183000
DTEND;TZID=America/New_York:20260112T193000
DTSTAMP:20260423T220458
CREATED:20240821T180413Z
LAST-MODIFIED:20260114T192442Z
UID:10001819-1768242600-1768246200@www.visionforequality.org
SUMMARY:Chair Dance Cardio - Bi-weekly Wellness Series
DESCRIPTION:[vc_row][vc_column][vc_column_text css=””]\nThis weekly\, virtual\, Chair Dance Cardio class is meant to be a whole-body workout that’s actually fun! It’s good for your heart and it will get your body moving to your favorite songs. Taught by Megan Do Nascimento: She is a Philadelphia native who studied dance at the High School for Creative and Performing Arts and Spanish at Temple University. She first practiced yoga while undergoing treatment for breast cancer six years ago. Yoga became a safe space that allowed Megan to disconnect from treatment and feel power. She completed her 200-hour teacher training at Hot Box Yoga in Manayunk\n\n\nTopic: Vision for Equality Chair Yoga and Dance Cardio \nTime: 06:30 PM Eastern Time (US and Canada) \nEmail Carol Costello at ccostello@visionforequality.org for the Zoom link.  You can also call 267-702-1601 and leave a message. \nEvery week on Thu\, Mon\, until June 30\, 2025 \n\n  \n\n  \n  \n\n[/vc_column_text][/vc_column][/vc_row]
URL:https://www.visionforequality.org/event/chair-dance-cardio-bi-weekly-wellness-series-2-2-2/2026-01-12/
LOCATION:Virtual\, PA\, United States
CATEGORIES:Vision For Equality
ATTACH;FMTTYPE=image/jpeg:https://www.visionforequality.org/wp-content/uploads/2020/06/VFE-logo-calendar.jpg
END:VEVENT
END:VCALENDAR