BEGIN:VCALENDAR
VERSION:2.0
PRODID:-//Vision For Equality - ECPv6.15.20//NONSGML v1.0//EN
CALSCALE:GREGORIAN
METHOD:PUBLISH
X-ORIGINAL-URL:https://www.visionforequality.org
X-WR-CALDESC:Events for Vision For Equality
REFRESH-INTERVAL;VALUE=DURATION:PT1H
X-Robots-Tag:noindex
X-PUBLISHED-TTL:PT1H
BEGIN:VTIMEZONE
TZID:America/New_York
BEGIN:DAYLIGHT
TZOFFSETFROM:-0500
TZOFFSETTO:-0400
TZNAME:EDT
DTSTART:20250309T070000
END:DAYLIGHT
BEGIN:STANDARD
TZOFFSETFROM:-0400
TZOFFSETTO:-0500
TZNAME:EST
DTSTART:20251102T060000
END:STANDARD
BEGIN:DAYLIGHT
TZOFFSETFROM:-0500
TZOFFSETTO:-0400
TZNAME:EDT
DTSTART:20260308T070000
END:DAYLIGHT
BEGIN:STANDARD
TZOFFSETFROM:-0400
TZOFFSETTO:-0500
TZNAME:EST
DTSTART:20261101T060000
END:STANDARD
BEGIN:DAYLIGHT
TZOFFSETFROM:-0500
TZOFFSETTO:-0400
TZNAME:EDT
DTSTART:20270314T070000
END:DAYLIGHT
BEGIN:STANDARD
TZOFFSETFROM:-0400
TZOFFSETTO:-0500
TZNAME:EST
DTSTART:20271107T060000
END:STANDARD
END:VTIMEZONE
BEGIN:VEVENT
DTSTART;TZID=America/New_York:20260303T183000
DTEND;TZID=America/New_York:20260303T193000
DTSTAMP:20260423T140524
CREATED:20250422T200651Z
LAST-MODIFIED:20250701T141622Z
UID:10002204-1772562600-1772566200@www.visionforequality.org
SUMMARY:Philadelphia Caregiver Support Group\, Birth- Five (First Tuesday)
DESCRIPTION:[vc_row][vc_column][vc_column_text css=””]\nThis is a recurring meeting\, held the First Tuesday of each month. Do you live in Philadelphia and care for a child five years old or younger with an intellectual/developmental disability or autism? \nRegister Here:https://us06web.zoom.us/meeting/register/3IpX_WKzSem27uRGKBYKcg#/registration\nWe want to help support you! \n\nConnect with other caregivers who “get it”\, learn tips on reducing stress and taking care of yourself as a caregiver.\nFor more information- Contact Program Manager: Chou Hallegra Phone: 215-923-3349 ext. 203\, challegra@visionforequality.org\n\n[/vc_column_text][/vc_column][/vc_row]
URL:https://www.visionforequality.org/event/philadelphia-caregiver-support-group-birth-five/2026-03-03/
LOCATION:PA
CATEGORIES:System Navigation & Trauma Informed Care,Vision For Equality
ATTACH;FMTTYPE=image/jpeg:https://www.visionforequality.org/wp-content/uploads/2025/04/Vision-for-Equality-Logo-scaled.jpg
END:VEVENT
END:VCALENDAR